BEGIN:VCALENDAR
VERSION:2.0
PRODID:-//Marrakech Accueil - ECPv6.15.20//NONSGML v1.0//EN
CALSCALE:GREGORIAN
METHOD:PUBLISH
X-WR-CALNAME:Marrakech Accueil
X-ORIGINAL-URL:https://www.marrakech-accueil.com
X-WR-CALDESC:Évènements pour Marrakech Accueil
REFRESH-INTERVAL;VALUE=DURATION:PT1H
X-Robots-Tag:noindex
X-PUBLISHED-TTL:PT1H
BEGIN:VTIMEZONE
TZID:Europe/Paris
BEGIN:DAYLIGHT
TZOFFSETFROM:+0100
TZOFFSETTO:+0200
TZNAME:CEST
DTSTART:20250330T010000
END:DAYLIGHT
BEGIN:STANDARD
TZOFFSETFROM:+0200
TZOFFSETTO:+0100
TZNAME:CET
DTSTART:20251026T010000
END:STANDARD
BEGIN:DAYLIGHT
TZOFFSETFROM:+0100
TZOFFSETTO:+0200
TZNAME:CEST
DTSTART:20260329T010000
END:DAYLIGHT
BEGIN:STANDARD
TZOFFSETFROM:+0200
TZOFFSETTO:+0100
TZNAME:CET
DTSTART:20261025T010000
END:STANDARD
BEGIN:DAYLIGHT
TZOFFSETFROM:+0100
TZOFFSETTO:+0200
TZNAME:CEST
DTSTART:20270328T010000
END:DAYLIGHT
BEGIN:STANDARD
TZOFFSETFROM:+0200
TZOFFSETTO:+0100
TZNAME:CET
DTSTART:20271031T010000
END:STANDARD
END:VTIMEZONE
BEGIN:VEVENT
DTSTART;TZID=Europe/Paris:20260305T084500
DTEND;TZID=Europe/Paris:20260305T160000
DTSTAMP:20260425T213210
CREATED:20260227T094550Z
LAST-MODIFIED:20260305T102457Z
UID:11575-1772700300-1772726400@www.marrakech-accueil.com
SUMMARY:MARCHE A LA JOURNEE ADAPTEE AUX BONS MARCHEURS DU LUNDI TRAIL TAHANNAOUT MOYEN
DESCRIPTION:Jean Jacques et Michel vous propose une marche à la  journée 10  kms\, 350 m de dénivelé \nPour permettre aux randonneurs inscrits pour le ftour le soir d’être revenu pas trop tard on organise une randonnée proche et courte. \nL’heure et le lieu du rendez vous se trouvent plus bas.\nIndiquez plus bas si vous avez besoin d’être covoituré (50 DH) ou au contraire\, combien de places vous proposez au covoiturage dans votre voiture.\n\nPrévoir chaussures de marche\, chapeau\, bâtons\, pique-nique et eau en quantité suffisante. Dans votre sac à dos\, même s’il fait beau\, prévoir coupe-vent pour la pluie et un vêtement chaud type polaire.  En tant que randonneur vous reconnaissez participer à la randonnée à vos propres risques. Marrakech Accueil n’est en aucun cas responsable de pertes\, dommages\, blessures légères ou fatales endurées par eux ou leur famille. Marrakech Accueil oblige chacun a souscrire une assurance suffisante à la couverture de toute perte\, dommages et blessures. 
URL:https://www.marrakech-accueil.com/evenements/marche-a-la-journee-adaptee-aux-bons-marcheurs-du-lundi-trail-tahannaout-moyen/
LOCATION:150 mètres le long de la route à droite après l’intersection du Ménara Mall.
ATTACH;FMTTYPE=image/jpeg:https://www.marrakech-accueil.com/wp-content/uploads/2023/11/7b4b8ea8-6044-449a-a4ce-5f64df61fce1.jpg
ORGANIZER;CN="Jean-Jacques Charles - Randonn%C3%A9es":MAILTO:jeanjacquescharles@msn.com
END:VEVENT
BEGIN:VEVENT
DTSTART;TZID=Europe/Paris:20260305T183000
DTEND;TZID=Europe/Paris:20260305T203000
DTSTAMP:20260425T213211
CREATED:20260202T102501Z
LAST-MODIFIED:20260202T103015Z
UID:11431-1772735400-1772742600@www.marrakech-accueil.com
SUMMARY:FTOUR AU CONFIDENTIAL
DESCRIPTION:Christian organise un Ftour au Confidential  \nle 5 mars à partir de 18h30. \nSalades variées\,\nBuffet chaud à volonté\,  Pâtisseries marocaines.dans le prix \nun café ou un  thé.jus de fruits compris.\nEau plate où gazeuse coca non compris. \nTarif : 100 dhs/personne.\nNb de participants 100.\nFin des inscriptions le dimanche 1er mars.
URL:https://www.marrakech-accueil.com/evenements/ftour-au-confidential/
LOCATION:Le confidential\, VILLA MBARKA III NR 100 LOT TOURISTIQUE AGDAL\, marrakech\, 40000\, Morocco
ATTACH;FMTTYPE=image/jpeg:https://www.marrakech-accueil.com/wp-content/uploads/2025/03/PHOTO-2025-03-11-22-14-54.jpg
ORGANIZER;CN="Christian Descarpentries":MAILTO:christian.d59@orange.fr
END:VEVENT
END:VCALENDAR