BEGIN:VCALENDAR
VERSION:2.0
PRODID:-//Marrakech Accueil - ECPv6.15.20//NONSGML v1.0//EN
CALSCALE:GREGORIAN
METHOD:PUBLISH
X-ORIGINAL-URL:https://www.marrakech-accueil.com
X-WR-CALDESC:Évènements pour Marrakech Accueil
REFRESH-INTERVAL;VALUE=DURATION:PT1H
X-Robots-Tag:noindex
X-PUBLISHED-TTL:PT1H
BEGIN:VTIMEZONE
TZID:Europe/Paris
BEGIN:DAYLIGHT
TZOFFSETFROM:+0100
TZOFFSETTO:+0200
TZNAME:CEST
DTSTART:20250330T010000
END:DAYLIGHT
BEGIN:STANDARD
TZOFFSETFROM:+0200
TZOFFSETTO:+0100
TZNAME:CET
DTSTART:20251026T010000
END:STANDARD
BEGIN:DAYLIGHT
TZOFFSETFROM:+0100
TZOFFSETTO:+0200
TZNAME:CEST
DTSTART:20260329T010000
END:DAYLIGHT
BEGIN:STANDARD
TZOFFSETFROM:+0200
TZOFFSETTO:+0100
TZNAME:CET
DTSTART:20261025T010000
END:STANDARD
BEGIN:DAYLIGHT
TZOFFSETFROM:+0100
TZOFFSETTO:+0200
TZNAME:CEST
DTSTART:20270328T010000
END:DAYLIGHT
BEGIN:STANDARD
TZOFFSETFROM:+0200
TZOFFSETTO:+0100
TZNAME:CET
DTSTART:20271031T010000
END:STANDARD
END:VTIMEZONE
BEGIN:VEVENT
DTSTART;TZID=Europe/Paris:20260312T083000
DTEND;TZID=Europe/Paris:20260312T170000
DTSTAMP:20260425T213425
CREATED:20260305T092412Z
LAST-MODIFIED:20260305T100926Z
UID:11583-1773304200-1773334800@www.marrakech-accueil.com
SUMMARY:MARCHE A LA JOURNEE POUR LES  MARCHEURS DU JEUDI -OUTGHAL\, trail de Myriam.
DESCRIPTION:PHILIPPE vous propose une marche  a la  journée\,  OUTGHAL \n14\,5  kms\, 650 m de dénivelé / \nL’heure et le lieu du rendez vous se trouvent plus bas.\nIndiquez plus bas si vous avez besoin d’être covoituré (50DH) ou au contraire\, combien de places vous proposez au covoiturage dans votre voiture.\n\nPrévoir chaussures de marche\, chapeau\, bâtons\, pique-nique et eau en quantité suffisante. Dans votre sac à dos\, même s’il fait beau\, prévoir coupe-vent pour la pluie et un vêtement chaud type polaire.  En tant que randonneur vous reconnaissez participer à la randonnée à vos propres risques. Marrakech Accueil n’est en aucun cas responsable de pertes\, dommages\, blessures légères ou fatales endurées par eux ou leur famille. Marrakech Accueil oblige chacun a souscrire une assurance suffisante à la couverture de toute perte\, dommages et blessures.
URL:https://www.marrakech-accueil.com/evenements/marche-a-la-journee-pour-les-marcheurs-du-jeudi-outghal-trail-de-myriam/
LOCATION:VICTORIA après Chifria route de Tahanaoute – Randonnées
ATTACH;FMTTYPE=image/jpeg:https://www.marrakech-accueil.com/wp-content/uploads/2025/10/dc773a23-ee2a-43c0-99b7-da99c5dc003d-300x300-1.jpg
ORGANIZER;CN="Babeth & Philippe Dufrenoy - Randonn%C3%A9es":MAILTO:dufrenoyp@gmail.com
END:VEVENT
BEGIN:VEVENT
DTSTART;TZID=Europe/Paris:20260312T083000
DTEND;TZID=Europe/Paris:20260312T170000
DTSTAMP:20260425T213425
CREATED:20260306T133316Z
LAST-MODIFIED:20260311T142755Z
UID:11604-1773304200-1773334800@www.marrakech-accueil.com
SUMMARY:MARCHE A LA JOURNEE ADAPTEE AUX BONS MARCHEURS DU LUNDI - LA PEPINIERE DE TADMANT
DESCRIPTION:Christophe et Remy vous proposent une marche à la  journée 8 kms\, 540m de dénivelé cumulé. Altitude maxi 2150 mètres. \nL’heure et le lieu du rendez vous se trouvent plus bas.\nIndiquez plus bas si vous avez besoin d’être covoituré (50 DH) ou au contraire\, combien de places vous proposez au covoiturage dans votre voiture.\n\nPrévoir chaussures de marche\, chapeau\, bâtons\, pique-nique et eau en quantité suffisante. Dans votre sac à dos\, même s’il fait beau\, prévoir coupe-vent pour la pluie et un vêtement chaud type polaire.  En tant que randonneur vous reconnaissez participer à la randonnée à vos propres risques. Marrakech Accueil n’est en aucun cas responsable de pertes\, dommages\, blessures légères ou fatales endurées par eux ou leur famille. Marrakech Accueil oblige chacun a souscrire une assurance suffisante à la couverture de toute perte\, dommages et blessures. 
URL:https://www.marrakech-accueil.com/evenements/marche-a-la-journee-adaptee-aux-bons-marcheurs-du-lundi-la-pepiniere-de-tadmant/
LOCATION:150 mètres le long de la route à droite après l’intersection du Ménara Mall.
ATTACH;FMTTYPE=image/jpeg:https://www.marrakech-accueil.com/wp-content/uploads/2023/11/7b4b8ea8-6044-449a-a4ce-5f64df61fce1.jpg
ORGANIZER;CN="Christophe LACOMBE - Randonn%C3%A9e":MAILTO:christophe.lacombe@live.fr
END:VEVENT
BEGIN:VEVENT
DTSTART;TZID=Europe/Paris:20260312T110000
DTEND;TZID=Europe/Paris:20260312T150000
DTSTAMP:20260425T213425
CREATED:20260225T112255Z
LAST-MODIFIED:20260225T112256Z
UID:11556-1773313200-1773327600@www.marrakech-accueil.com
SUMMARY:Visite du musée du patrimoine
DESCRIPTION:Visite du musée du Patrimoine place Jeema El Fna\, suivie d’un déjeuner au restaurant Dada sur la place. \n\nRDV devant le musée à 11h le 12 mars prochain.Billet 40 dhs (prévoyez de la monnaie). \nPour ceux qui veulent déjeuner\, le mentionner\, lors de votre inscription sur le site.Merci. \n  \n 
URL:https://www.marrakech-accueil.com/evenements/visite-du-musee-du-patrimoine/
LOCATION:place jemaa el Fna
ATTACH;FMTTYPE=image/jpeg:https://www.marrakech-accueil.com/wp-content/uploads/2022/11/caleche.jpeg
ORGANIZER;CN="Catherine Delaunay":MAILTO:catherine_delaunay@hotmail.fr
END:VEVENT
END:VCALENDAR