BEGIN:VCALENDAR
VERSION:2.0
PRODID:-//Marrakech Accueil - ECPv6.15.20//NONSGML v1.0//EN
CALSCALE:GREGORIAN
METHOD:PUBLISH
X-WR-CALNAME:Marrakech Accueil
X-ORIGINAL-URL:https://www.marrakech-accueil.com
X-WR-CALDESC:Évènements pour Marrakech Accueil
REFRESH-INTERVAL;VALUE=DURATION:PT1H
X-Robots-Tag:noindex
X-PUBLISHED-TTL:PT1H
BEGIN:VTIMEZONE
TZID:Africa/Casablanca
BEGIN:DAYLIGHT
TZOFFSETFROM:+0100
TZOFFSETTO:+0000
TZNAME:+00
DTSTART:20250223T020000
END:DAYLIGHT
BEGIN:STANDARD
TZOFFSETFROM:+0000
TZOFFSETTO:+0100
TZNAME:+01
DTSTART:20250406T020000
END:STANDARD
BEGIN:DAYLIGHT
TZOFFSETFROM:+0100
TZOFFSETTO:+0000
TZNAME:+00
DTSTART:20260215T020000
END:DAYLIGHT
BEGIN:STANDARD
TZOFFSETFROM:+0000
TZOFFSETTO:+0100
TZNAME:+01
DTSTART:20260322T020000
END:STANDARD
BEGIN:DAYLIGHT
TZOFFSETFROM:+0100
TZOFFSETTO:+0000
TZNAME:+00
DTSTART:20270207T020000
END:DAYLIGHT
BEGIN:STANDARD
TZOFFSETFROM:+0000
TZOFFSETTO:+0100
TZNAME:+01
DTSTART:20270314T020000
END:STANDARD
END:VTIMEZONE
BEGIN:VEVENT
DTSTART;TZID=Africa/Casablanca:20260317T093000
DTEND;TZID=Africa/Casablanca:20260317T113000
DTSTAMP:20260425T213119
CREATED:20260222T095526Z
LAST-MODIFIED:20260311T143734Z
UID:11513-1773739800-1773747000@www.marrakech-accueil.com
SUMMARY:Pétanque
DESCRIPTION:contacter le responsable de l’activité \nBruno Jallud WhatsApp +212 669570188 \nou bien \nCriss Mermet WhatsApp +212 667068983
URL:https://www.marrakech-accueil.com/evenements/petanque-41/
LOCATION:Terrain de Pétanque\, Jardin de l’Agdal Avenue de Tassiltante Remparts de Marrakech Parking au milieu du parc\, J27F+8W Marrakech\, Maroc\, Marrakech\, Sélectionner un État :\, 40000\, Morocco
ATTACH;FMTTYPE=image/jpeg:https://www.marrakech-accueil.com/wp-content/uploads/2019/12/589afd9f-37ac-4079-9099-e5c4f759623c.jpg
ORGANIZER;CN="Bruno Jallud":MAILTO:brunojallud@outlook.com
END:VEVENT
END:VCALENDAR