BEGIN:VCALENDAR
VERSION:2.0
PRODID:-//Marrakech Accueil - ECPv6.15.20//NONSGML v1.0//EN
CALSCALE:GREGORIAN
METHOD:PUBLISH
X-WR-CALNAME:Marrakech Accueil
X-ORIGINAL-URL:https://www.marrakech-accueil.com
X-WR-CALDESC:Évènements pour Marrakech Accueil
REFRESH-INTERVAL;VALUE=DURATION:PT1H
X-Robots-Tag:noindex
X-PUBLISHED-TTL:PT1H
BEGIN:VTIMEZONE
TZID:Europe/Paris
BEGIN:DAYLIGHT
TZOFFSETFROM:+0100
TZOFFSETTO:+0200
TZNAME:CEST
DTSTART:20250330T010000
END:DAYLIGHT
BEGIN:STANDARD
TZOFFSETFROM:+0200
TZOFFSETTO:+0100
TZNAME:CET
DTSTART:20251026T010000
END:STANDARD
BEGIN:DAYLIGHT
TZOFFSETFROM:+0100
TZOFFSETTO:+0200
TZNAME:CEST
DTSTART:20260329T010000
END:DAYLIGHT
BEGIN:STANDARD
TZOFFSETFROM:+0200
TZOFFSETTO:+0100
TZNAME:CET
DTSTART:20261025T010000
END:STANDARD
BEGIN:DAYLIGHT
TZOFFSETFROM:+0100
TZOFFSETTO:+0200
TZNAME:CEST
DTSTART:20270328T010000
END:DAYLIGHT
BEGIN:STANDARD
TZOFFSETFROM:+0200
TZOFFSETTO:+0100
TZNAME:CET
DTSTART:20271031T010000
END:STANDARD
END:VTIMEZONE
BEGIN:VEVENT
DTSTART;TZID=Europe/Paris:20260323T084500
DTEND;TZID=Europe/Paris:20260323T170000
DTSTAMP:20260425T213211
CREATED:20260312T192529Z
LAST-MODIFIED:20260312T192529Z
UID:11623-1774255500-1774285200@www.marrakech-accueil.com
SUMMARY:MARCHE A LA JOURNEE DU LUNDI FACILE- ANBDOUR TAHANAOUT\, SUIVIE D'UN REPAS CHEZ JNANE ZEITOUNE
DESCRIPTION:Christophe\, Remy et Jean Marc vous proposent une marche à la  journée facile 8 kms\, 275 m de dénivelé. Altitude maxi 1148 mètres. \nMenu : Salade Marocaine – Tagine de chèvre ou de poulet beldi\, ou de bœuf et aussi végétarien – Légumes – Frites – Eau – Thé . 125 Dhs \nCafé en supplément. Prévoir de la monnaie. \nPrécisez votre choix de Tagines lors de votre inscription. \nL’inscription à la marche valide le repas. \nL’heure et le lieu du rendez vous se trouvent plus bas.\nIndiquez plus bas si vous avez besoin d’être covoituré (50 DH) ou au contraire\, combien de places vous proposez au covoiturage dans votre voiture.\n\nPrévoir chaussures de marche\, chapeau\, bâtons\, pique-nique et eau en quantité suffisante. Dans votre sac à dos\, même s’il fait beau\, prévoir coupe-vent pour la pluie et un vêtement chaud type polaire.  En tant que randonneur vous reconnaissez participer à la randonnée à vos propres risques. Marrakech Accueil n’est en aucun cas responsable de pertes\, dommages\, blessures légères ou fatales endurées par eux ou leur famille. Marrakech Accueil oblige chacun a souscrire une assurance suffisante à la couverture de toute perte\, dommages et blessures. 
URL:https://www.marrakech-accueil.com/evenements/marche-a-la-journee-du-lundi-facile-anbdour-tahanaout-suivie-dun-repas-chez-jnane-zeitoune/
LOCATION:Le long de la route 300 m après Menara MALL – Randonnées\, JX8V+GJJ\, Marrakech\, marrakech\, Morocco
ATTACH;FMTTYPE=image/jpeg:https://www.marrakech-accueil.com/wp-content/uploads/2023/11/7b4b8ea8-6044-449a-a4ce-5f64df61fce1.jpg
ORGANIZER;CN="Christophe LACOMBE - Randonn%C3%A9e":MAILTO:christophe.lacombe@live.fr
END:VEVENT
END:VCALENDAR