BEGIN:VCALENDAR
VERSION:2.0
PRODID:-//Marrakech Accueil - ECPv6.15.20//NONSGML v1.0//EN
CALSCALE:GREGORIAN
METHOD:PUBLISH
X-ORIGINAL-URL:https://www.marrakech-accueil.com
X-WR-CALDESC:Évènements pour Marrakech Accueil
REFRESH-INTERVAL;VALUE=DURATION:PT1H
X-Robots-Tag:noindex
X-PUBLISHED-TTL:PT1H
BEGIN:VTIMEZONE
TZID:Europe/Paris
BEGIN:DAYLIGHT
TZOFFSETFROM:+0100
TZOFFSETTO:+0200
TZNAME:CEST
DTSTART:20250330T010000
END:DAYLIGHT
BEGIN:STANDARD
TZOFFSETFROM:+0200
TZOFFSETTO:+0100
TZNAME:CET
DTSTART:20251026T010000
END:STANDARD
BEGIN:DAYLIGHT
TZOFFSETFROM:+0100
TZOFFSETTO:+0200
TZNAME:CEST
DTSTART:20260329T010000
END:DAYLIGHT
BEGIN:STANDARD
TZOFFSETFROM:+0200
TZOFFSETTO:+0100
TZNAME:CET
DTSTART:20261025T010000
END:STANDARD
BEGIN:DAYLIGHT
TZOFFSETFROM:+0100
TZOFFSETTO:+0200
TZNAME:CEST
DTSTART:20270328T010000
END:DAYLIGHT
BEGIN:STANDARD
TZOFFSETFROM:+0200
TZOFFSETTO:+0100
TZNAME:CET
DTSTART:20271031T010000
END:STANDARD
END:VTIMEZONE
BEGIN:VEVENT
DTSTART;TZID=Europe/Paris:20260326T080000
DTEND;TZID=Europe/Paris:20260326T170000
DTSTAMP:20260425T213425
CREATED:20260319T181843Z
LAST-MODIFIED:20260325T163430Z
UID:11628-1774512000-1774544400@www.marrakech-accueil.com
SUMMARY:MARCHE A LA JOURNEE POUR LES  MARCHEURS DU JEUDI -Anins Ourika Jeudi 26 Mars
DESCRIPTION:Babeth et Philippe vous proposent une marche  a la  journée\,  Anins Ourika\,\n\n11\,5 kms\,820 m de dénivelé /RDV au Kech pour un départ à 8h \nL’heure et le lieu du rendez vous se trouvent plus bas.\nIndiquez plus bas si vous avez besoin d’être covoituré (50DH) ou au contraire\, combien de places vous proposez au covoiturage dans votre voiture.\n\nPrévoir chaussures de marche\, chapeau\, bâtons\, pique-nique et eau en quantité suffisante. Dans votre sac à dos\, même s’il fait beau\, prévoir coupe-vent pour la pluie et un vêtement chaud type polaire.  En tant que randonneur vous reconnaissez participer à la randonnée à vos propres risques. Marrakech Accueil n’est en aucun cas responsable de pertes\, dommages\, blessures légères ou fatales endurées par eux ou leur famille. Marrakech Accueil oblige chacun a souscrire une assurance suffisante à la couverture de toute perte\, dommages et blessures.
URL:https://www.marrakech-accueil.com/evenements/marche-a-la-journee-pour-les-marcheurs-du-jeudi-anins-ourika-jeudi-26-mars/
LOCATION:le kech
ATTACH;FMTTYPE=image/jpeg:https://www.marrakech-accueil.com/wp-content/uploads/2025/10/dc773a23-ee2a-43c0-99b7-da99c5dc003d-300x300-1.jpg
ORGANIZER;CN="Babeth & Philippe Dufrenoy - Randonn%C3%A9es":MAILTO:dufrenoyp@gmail.com
END:VEVENT
BEGIN:VEVENT
DTSTART;TZID=Europe/Paris:20260326T083000
DTEND;TZID=Europe/Paris:20260326T170000
DTSTAMP:20260425T213425
CREATED:20260322T155549Z
LAST-MODIFIED:20260325T163650Z
UID:11631-1774513800-1774544400@www.marrakech-accueil.com
SUMMARY:MARCHE A LA JOURNEE ADAPTEE AUX BONS MARCHEURS DU LUNDI- RECONNAISSANCE DANS LES JBILETS
DESCRIPTION:Jean-Marc\, Christophe et Remy vous proposent une marche à la  journée 9 kms\, 280 m de dénivelé. La météo étant pluvieuse tous les jours\, c’est l’endroit où il devrait moins pleuvoir. On fait une marche de reconnaissance pour définir un tracé pour le lundi. 15 personnes maximum. Risque de pluie et terrain accidenté. La randonnée peut être annulée suite aux intemperies. \nL’heure et le lieu du rendez vous se trouvent plus bas.\nIndiquez plus bas si vous avez besoin d’être covoituré (50 DH) ou au contraire\, combien de places vous proposez au covoiturage dans votre voiture.\n\nPrévoir chaussures de marche\, chapeau\, bâtons\, pique-nique et eau en quantité suffisante. Dans votre sac à dos\, même s’il fait beau\, prévoir coupe-vent pour la pluie et un vêtement chaud type polaire.  En tant que randonneur vous reconnaissez participer à la randonnée à vos propres risques. Marrakech Accueil n’est en aucun cas responsable de pertes\, dommages\, blessures légères ou fatales endurées par eux ou leur famille. Marrakech Accueil oblige chacun a souscrire une assurance suffisante à la couverture de toute perte\, dommages et blessures. 
URL:https://www.marrakech-accueil.com/evenements/marche-a-la-journee-adaptee-aux-bons-marcheurs-du-lundi-reconnaissance-dans-les-jbilets/
LOCATION:150 mètres le long de la route à droite après l’intersection du Ménara Mall.
ATTACH;FMTTYPE=image/jpeg:https://www.marrakech-accueil.com/wp-content/uploads/2023/11/7b4b8ea8-6044-449a-a4ce-5f64df61fce1.jpg
ORGANIZER;CN="Jean-Marc Charvolin - Randonn%C3%A9es":MAILTO:jeanmarc.charvolin@yahoo.fr
END:VEVENT
END:VCALENDAR