BEGIN:VCALENDAR
VERSION:2.0
PRODID:-//Marrakech Accueil - ECPv6.15.20//NONSGML v1.0//EN
CALSCALE:GREGORIAN
METHOD:PUBLISH
X-ORIGINAL-URL:https://www.marrakech-accueil.com
X-WR-CALDESC:Évènements pour Marrakech Accueil
REFRESH-INTERVAL;VALUE=DURATION:PT1H
X-Robots-Tag:noindex
X-PUBLISHED-TTL:PT1H
BEGIN:VTIMEZONE
TZID:Africa/Casablanca
BEGIN:DAYLIGHT
TZOFFSETFROM:+0100
TZOFFSETTO:+0000
TZNAME:+00
DTSTART:20250223T020000
END:DAYLIGHT
BEGIN:STANDARD
TZOFFSETFROM:+0000
TZOFFSETTO:+0100
TZNAME:+01
DTSTART:20250406T020000
END:STANDARD
BEGIN:DAYLIGHT
TZOFFSETFROM:+0100
TZOFFSETTO:+0000
TZNAME:+00
DTSTART:20260215T020000
END:DAYLIGHT
BEGIN:STANDARD
TZOFFSETFROM:+0000
TZOFFSETTO:+0100
TZNAME:+01
DTSTART:20260322T020000
END:STANDARD
BEGIN:DAYLIGHT
TZOFFSETFROM:+0100
TZOFFSETTO:+0000
TZNAME:+00
DTSTART:20270207T020000
END:DAYLIGHT
BEGIN:STANDARD
TZOFFSETFROM:+0000
TZOFFSETTO:+0100
TZNAME:+01
DTSTART:20270314T020000
END:STANDARD
END:VTIMEZONE
BEGIN:VTIMEZONE
TZID:Europe/Paris
BEGIN:DAYLIGHT
TZOFFSETFROM:+0100
TZOFFSETTO:+0200
TZNAME:CEST
DTSTART:20250330T010000
END:DAYLIGHT
BEGIN:STANDARD
TZOFFSETFROM:+0200
TZOFFSETTO:+0100
TZNAME:CET
DTSTART:20251026T010000
END:STANDARD
BEGIN:DAYLIGHT
TZOFFSETFROM:+0100
TZOFFSETTO:+0200
TZNAME:CEST
DTSTART:20260329T010000
END:DAYLIGHT
BEGIN:STANDARD
TZOFFSETFROM:+0200
TZOFFSETTO:+0100
TZNAME:CET
DTSTART:20261025T010000
END:STANDARD
BEGIN:DAYLIGHT
TZOFFSETFROM:+0100
TZOFFSETTO:+0200
TZNAME:CEST
DTSTART:20270328T010000
END:DAYLIGHT
BEGIN:STANDARD
TZOFFSETFROM:+0200
TZOFFSETTO:+0100
TZNAME:CET
DTSTART:20271031T010000
END:STANDARD
END:VTIMEZONE
BEGIN:VEVENT
DTSTART;TZID=Africa/Casablanca:20260327T093000
DTEND;TZID=Africa/Casablanca:20260327T113000
DTSTAMP:20260425T213426
CREATED:20260222T100248Z
LAST-MODIFIED:20260311T144006Z
UID:11533-1774603800-1774611000@www.marrakech-accueil.com
SUMMARY:Pétanque
DESCRIPTION:Vous devez vous inscrire sur le site. En cas de difficulté\, contacter le responsable de l’activité Criss Mermet WhatsApp +212 6 67 06 89 83.
URL:https://www.marrakech-accueil.com/evenements/petanque-51/
LOCATION:Terrain de Pétanque\, Jardin de l’Agdal Avenue de Tassiltante Remparts de Marrakech Parking au milieu du parc\, J27F+8W Marrakech\, Maroc\, Marrakech\, Sélectionner un État :\, 40000\, Morocco
ATTACH;FMTTYPE=image/jpeg:https://www.marrakech-accueil.com/wp-content/uploads/2019/12/589afd9f-37ac-4079-9099-e5c4f759623c.jpg
ORGANIZER;CN="Bruno Jallud":MAILTO:brunojallud@outlook.com
END:VEVENT
BEGIN:VEVENT
DTSTART;TZID=Europe/Paris:20260327T100000
DTEND;TZID=Europe/Paris:20260327T110000
DTSTAMP:20260425T213426
CREATED:20260103T111033Z
LAST-MODIFIED:20260103T111033Z
UID:11198-1774605600-1774609200@www.marrakech-accueil.com
SUMMARY:Cours renfo musculaire - Mobilité Equilibre
DESCRIPTION:Valéryane vous propose un cours d’une heure de Pilates et stretching toutes les semaines : \nLes mercredis à 10 h stretching\, mobilité\, abdos\, respiration. \nLes vendredis à 10 h équilibre et renforcement musculaire. \nCabinet ALB avenue du colonel Gazeille  – Gueliz ( rue parallèle à l’institut français et au lycée Victor Hugo  \n Centre d’affaire Renoir RDC Appt N2 \nUn cours d’essai vous est proposé au tarif de 120 dh \nAbonnement 10 cours 1500 dh valable 3 mois \nRenseignements complémentaires\, inscriptions\, désinscriptions sur le wattsapp de Valéryane \n+212 693-544325 \nAttention mini 3 personnes pour assurer le cours
URL:https://www.marrakech-accueil.com/evenements/cours-renfo-musculaire-mobilite-equilibre-31/
LOCATION:CABINET ALB
ATTACH;FMTTYPE=image/jpeg:https://www.marrakech-accueil.com/wp-content/uploads/2024/10/ae6b8a54-1f9a-4fbc-888e-dd149c092994.jpg
ORGANIZER;CN="Babeth & Philippe Dufrenoy - Randonn%C3%A9es":MAILTO:dufrenoyp@gmail.com
END:VEVENT
END:VCALENDAR