BEGIN:VCALENDAR
VERSION:2.0
PRODID:-//Marrakech Accueil - ECPv6.15.20//NONSGML v1.0//EN
CALSCALE:GREGORIAN
METHOD:PUBLISH
X-ORIGINAL-URL:https://www.marrakech-accueil.com
X-WR-CALDESC:Évènements pour Marrakech Accueil
REFRESH-INTERVAL;VALUE=DURATION:PT1H
X-Robots-Tag:noindex
X-PUBLISHED-TTL:PT1H
BEGIN:VTIMEZONE
TZID:Europe/Paris
BEGIN:DAYLIGHT
TZOFFSETFROM:+0100
TZOFFSETTO:+0200
TZNAME:CEST
DTSTART:20250330T010000
END:DAYLIGHT
BEGIN:STANDARD
TZOFFSETFROM:+0200
TZOFFSETTO:+0100
TZNAME:CET
DTSTART:20251026T010000
END:STANDARD
BEGIN:DAYLIGHT
TZOFFSETFROM:+0100
TZOFFSETTO:+0200
TZNAME:CEST
DTSTART:20260329T010000
END:DAYLIGHT
BEGIN:STANDARD
TZOFFSETFROM:+0200
TZOFFSETTO:+0100
TZNAME:CET
DTSTART:20261025T010000
END:STANDARD
BEGIN:DAYLIGHT
TZOFFSETFROM:+0100
TZOFFSETTO:+0200
TZNAME:CEST
DTSTART:20270328T010000
END:DAYLIGHT
BEGIN:STANDARD
TZOFFSETFROM:+0200
TZOFFSETTO:+0100
TZNAME:CET
DTSTART:20271031T010000
END:STANDARD
END:VTIMEZONE
BEGIN:VTIMEZONE
TZID:Africa/Casablanca
BEGIN:DAYLIGHT
TZOFFSETFROM:+0100
TZOFFSETTO:+0000
TZNAME:+00
DTSTART:20250223T020000
END:DAYLIGHT
BEGIN:STANDARD
TZOFFSETFROM:+0000
TZOFFSETTO:+0100
TZNAME:+01
DTSTART:20250406T020000
END:STANDARD
BEGIN:DAYLIGHT
TZOFFSETFROM:+0100
TZOFFSETTO:+0000
TZNAME:+00
DTSTART:20260215T020000
END:DAYLIGHT
BEGIN:STANDARD
TZOFFSETFROM:+0000
TZOFFSETTO:+0100
TZNAME:+01
DTSTART:20260322T020000
END:STANDARD
BEGIN:DAYLIGHT
TZOFFSETFROM:+0100
TZOFFSETTO:+0000
TZNAME:+00
DTSTART:20270207T020000
END:DAYLIGHT
BEGIN:STANDARD
TZOFFSETFROM:+0000
TZOFFSETTO:+0100
TZNAME:+01
DTSTART:20270314T020000
END:STANDARD
END:VTIMEZONE
BEGIN:VEVENT
DTSTART;TZID=Europe/Paris:20260328T073000
DTEND;TZID=Europe/Paris:20260329T180000
DTSTAMP:20260425T213444
CREATED:20260115T083013Z
LAST-MODIFIED:20260115T083013Z
UID:11296-1774683000-1774807200@www.marrakech-accueil.com
SUMMARY:RALLYE AUTO SURPRISE
DESCRIPTION:Christian \, Bruno\, Claude vous proposent un rallye automobile « SURPRISE « à la fois ludique\, culturel et gastronomique  \nPartons ensemble à L’Aventure… \nLes équipages seront formés de 4 personnes par voiture \nTarif identique à l’an dernier est de 1750 dhs par personne pour une chambre standard occupée par deux personnes. \nSupplément pour chambre supérieure (3 disponibles) \n250 dhs par personne. \nSupplement pour chambre individuelle 350dhs mais le nombre est très très limité\, on vous incite à vous regrouper à 2 par chambre. \n(acompte 1000 DH) voir RIB ci-dessous \nDans le tarif est inclus \nJOUR 1 \n\nPetit déjeuner sur la route\nDéjeuner\nDiner Nuit à l’hôtel et petit déjeuner                                    \n\nJOUR 2 \n\nDéjeuner du midi et remise des prix\n\nNon inclus Le carburant\, les boissons \nNombre maximum: 40 \n\nLors de votre inscription\, merci de précisez dans la rubrique autre si vous prenez votre véhicule ou si vous souhaitez partager… \n  \nATTENTION ! Nombre limité de places. Ne tardez pas à vous\ninscrire. Si nécessaire une liste d’attente sera constituée\, contactez dans ce cas les\norganisateurs !  \n\nVotre pré inscription sera validée avec un acompte de 1.000 dh par personne. \nCompte bancaire de l’Association Marrakech Accueil :  \nCFG Bank 050 450 007 01152482 120 01 80 \n – Merci d’indiquer votre nom dans la référence du virement Compte bancaire de l’Association Marrakech Accueil : \nNE PAS OUBLIER D’INDIQUER VOTRE NOM \n  \nLe lieu et heure du rendez-vous vous seront précisés ultérieurement. \nUne partie des documents vous sera remise au départ.\nLes équipages se constituent eux-mêmes mais doivent être annoncés aux organisateurs. \nL’idéal étant de 4 personnes par voiture. \nL’organisation ne s’occupe pas du covoiturage. \nCLÔTURE DES INSCRIPTIONS LE  \n28 février 2026 \nOrganisateurs contacts whatsapp : \nClaude Fatta + 212 06 61 23 67 10 \nBruno Jallud +33 6 73 27 05 31 \nChristian Descarpentrie +212 06 91 10 55 14 \n  \n  \n 
URL:https://www.marrakech-accueil.com/evenements/rallye-auto-surprise-2/
ATTACH;FMTTYPE=image/jpeg:https://www.marrakech-accueil.com/wp-content/uploads/2026/01/8852a415-f135-4fdb-bdfb-43e5d3985e3e-1.jpeg
ORGANIZER;CN="Claude Fatta":MAILTO:claudefatta@hotmail.com
END:VEVENT
BEGIN:VEVENT
DTSTART;TZID=Africa/Casablanca:20260328T140000
DTEND;TZID=Africa/Casablanca:20260328T170000
DTSTAMP:20260425T213444
CREATED:20260101T135938Z
LAST-MODIFIED:20260116T083835Z
UID:11115-1774706400-1774717200@www.marrakech-accueil.com
SUMMARY:Jeu de cartes - TAROT
DESCRIPTION:
URL:https://www.marrakech-accueil.com/evenements/jeu-de-cartes-tarot-35/
LOCATION:Hôtel AMANI\, 11 Rue Abou Bakr Seddiq\,\, Marrakesh\, 40000\, Morocco
ATTACH;FMTTYPE=image/png:https://www.marrakech-accueil.com/wp-content/uploads/2025/11/Tarot.png
ORGANIZER;CN="Dany Segall":MAILTO:dany.segall@hotmail.fr
END:VEVENT
BEGIN:VEVENT
DTSTART;TZID=Africa/Casablanca:20260328T140000
DTEND;TZID=Africa/Casablanca:20260328T170000
DTSTAMP:20260425T213444
CREATED:20260101T140005Z
LAST-MODIFIED:20260116T083856Z
UID:11117-1774706400-1774717200@www.marrakech-accueil.com
SUMMARY:Jeu de Cartes - BELOTE
DESCRIPTION:
URL:https://www.marrakech-accueil.com/evenements/jeu-de-cartes-belote-25/
LOCATION:Hôtel AMANI\, 11 Rue Abou Bakr Seddiq\,\, Marrakesh\, 40000\, Morocco
ATTACH;FMTTYPE=image/png:https://www.marrakech-accueil.com/wp-content/uploads/2020/01/Belote-.png
ORGANIZER;CN="Dany Segall":MAILTO:dany.segall@hotmail.fr
END:VEVENT
END:VCALENDAR