BEGIN:VCALENDAR
VERSION:2.0
PRODID:-//Marrakech Accueil - ECPv6.15.20//NONSGML v1.0//EN
CALSCALE:GREGORIAN
METHOD:PUBLISH
X-ORIGINAL-URL:https://www.marrakech-accueil.com
X-WR-CALDESC:Évènements pour Marrakech Accueil
REFRESH-INTERVAL;VALUE=DURATION:PT1H
X-Robots-Tag:noindex
X-PUBLISHED-TTL:PT1H
BEGIN:VTIMEZONE
TZID:Europe/Paris
BEGIN:DAYLIGHT
TZOFFSETFROM:+0100
TZOFFSETTO:+0200
TZNAME:CEST
DTSTART:20250330T010000
END:DAYLIGHT
BEGIN:STANDARD
TZOFFSETFROM:+0200
TZOFFSETTO:+0100
TZNAME:CET
DTSTART:20251026T010000
END:STANDARD
BEGIN:DAYLIGHT
TZOFFSETFROM:+0100
TZOFFSETTO:+0200
TZNAME:CEST
DTSTART:20260329T010000
END:DAYLIGHT
BEGIN:STANDARD
TZOFFSETFROM:+0200
TZOFFSETTO:+0100
TZNAME:CET
DTSTART:20261025T010000
END:STANDARD
BEGIN:DAYLIGHT
TZOFFSETFROM:+0100
TZOFFSETTO:+0200
TZNAME:CEST
DTSTART:20270328T010000
END:DAYLIGHT
BEGIN:STANDARD
TZOFFSETFROM:+0200
TZOFFSETTO:+0100
TZNAME:CET
DTSTART:20271031T010000
END:STANDARD
END:VTIMEZONE
BEGIN:VTIMEZONE
TZID:Africa/Casablanca
BEGIN:DAYLIGHT
TZOFFSETFROM:+0100
TZOFFSETTO:+0000
TZNAME:+00
DTSTART:20250223T020000
END:DAYLIGHT
BEGIN:STANDARD
TZOFFSETFROM:+0000
TZOFFSETTO:+0100
TZNAME:+01
DTSTART:20250406T020000
END:STANDARD
BEGIN:DAYLIGHT
TZOFFSETFROM:+0100
TZOFFSETTO:+0000
TZNAME:+00
DTSTART:20260215T020000
END:DAYLIGHT
BEGIN:STANDARD
TZOFFSETFROM:+0000
TZOFFSETTO:+0100
TZNAME:+01
DTSTART:20260322T020000
END:STANDARD
BEGIN:DAYLIGHT
TZOFFSETFROM:+0100
TZOFFSETTO:+0000
TZNAME:+00
DTSTART:20270207T020000
END:DAYLIGHT
BEGIN:STANDARD
TZOFFSETFROM:+0000
TZOFFSETTO:+0100
TZNAME:+01
DTSTART:20270314T020000
END:STANDARD
END:VTIMEZONE
BEGIN:VEVENT
DTSTART;TZID=Europe/Paris:20260418T090000
DTEND;TZID=Europe/Paris:20260418T103000
DTSTAMP:20260425T201418
CREATED:20260312T083831Z
LAST-MODIFIED:20260326T121237Z
UID:11613-1776502800-1776508200@www.marrakech-accueil.com
SUMMARY:Petit déjeuner hôtel AMANI.
DESCRIPTION:Christian vous propose un \nPetit déjeuner sur la terrasse de l’hôtel Amani\nLe 18 avril . 80 personnes maximum. \nPetit déjeuner : Boissons chaudes\, viennoiserie\, pain beurre\, confiture\, miel\, omelette au choix\, jus d’orange\,crèpes\, soupe etc……..\nFin des inscriptions le 12 avril \nPour tout renseignement contacter Christian au :\n06 91 10 55 14.\nchristian.d59@orange.fr
URL:https://www.marrakech-accueil.com/evenements/petit-dejeuner-au-kbf-bd-mohamed-v-gueliz-2/
LOCATION:kitchen beldi fusion\, AVENUE MOHAMED 5\, MARRAKECH\, Morocco
ATTACH;FMTTYPE=image/jpeg:https://www.marrakech-accueil.com/wp-content/uploads/2025/11/298a561b-eb93-4e6b-b7a2-fecf84a22fd1.jpg
END:VEVENT
BEGIN:VEVENT
DTSTART;TZID=Africa/Casablanca:20260418T140000
DTEND;TZID=Africa/Casablanca:20260418T170000
DTSTAMP:20260425T201418
CREATED:20260101T140711Z
LAST-MODIFIED:20260116T084353Z
UID:11139-1776520800-1776531600@www.marrakech-accueil.com
SUMMARY:Jeu de cartes - TAROT
DESCRIPTION:
URL:https://www.marrakech-accueil.com/evenements/jeu-de-cartes-tarot-41/
LOCATION:Hôtel AMANI\, 11 Rue Abou Bakr Seddiq\,\, Marrakesh\, 40000\, Morocco
ATTACH;FMTTYPE=image/png:https://www.marrakech-accueil.com/wp-content/uploads/2025/11/Tarot.png
ORGANIZER;CN="Dany Segall":MAILTO:dany.segall@hotmail.fr
END:VEVENT
BEGIN:VEVENT
DTSTART;TZID=Africa/Casablanca:20260418T140000
DTEND;TZID=Africa/Casablanca:20260418T170000
DTSTAMP:20260425T201418
CREATED:20260101T140738Z
LAST-MODIFIED:20260116T084420Z
UID:11141-1776520800-1776531600@www.marrakech-accueil.com
SUMMARY:Jeu de Cartes - BELOTE
DESCRIPTION:
URL:https://www.marrakech-accueil.com/evenements/jeu-de-cartes-belote-31/
LOCATION:Hôtel AMANI\, 11 Rue Abou Bakr Seddiq\,\, Marrakesh\, 40000\, Morocco
ATTACH;FMTTYPE=image/png:https://www.marrakech-accueil.com/wp-content/uploads/2020/01/Belote-.png
ORGANIZER;CN="Dany Segall":MAILTO:dany.segall@hotmail.fr
END:VEVENT
END:VCALENDAR