BEGIN:VCALENDAR
VERSION:2.0
PRODID:-//Marrakech Accueil - ECPv6.15.20//NONSGML v1.0//EN
CALSCALE:GREGORIAN
METHOD:PUBLISH
X-WR-CALNAME:Marrakech Accueil
X-ORIGINAL-URL:https://www.marrakech-accueil.com
X-WR-CALDESC:Évènements pour Marrakech Accueil
REFRESH-INTERVAL;VALUE=DURATION:PT1H
X-Robots-Tag:noindex
X-PUBLISHED-TTL:PT1H
BEGIN:VTIMEZONE
TZID:Europe/Paris
BEGIN:DAYLIGHT
TZOFFSETFROM:+0100
TZOFFSETTO:+0200
TZNAME:CEST
DTSTART:20250330T010000
END:DAYLIGHT
BEGIN:STANDARD
TZOFFSETFROM:+0200
TZOFFSETTO:+0100
TZNAME:CET
DTSTART:20251026T010000
END:STANDARD
BEGIN:DAYLIGHT
TZOFFSETFROM:+0100
TZOFFSETTO:+0200
TZNAME:CEST
DTSTART:20260329T010000
END:DAYLIGHT
BEGIN:STANDARD
TZOFFSETFROM:+0200
TZOFFSETTO:+0100
TZNAME:CET
DTSTART:20261025T010000
END:STANDARD
BEGIN:DAYLIGHT
TZOFFSETFROM:+0100
TZOFFSETTO:+0200
TZNAME:CEST
DTSTART:20270328T010000
END:DAYLIGHT
BEGIN:STANDARD
TZOFFSETFROM:+0200
TZOFFSETTO:+0100
TZNAME:CET
DTSTART:20271031T010000
END:STANDARD
END:VTIMEZONE
BEGIN:VEVENT
DTSTART;TZID=Europe/Paris:20260420T084500
DTEND;TZID=Europe/Paris:20260420T170000
DTSTAMP:20260420T133751
CREATED:20260413T194846Z
LAST-MODIFIED:20260413T194846Z
UID:12011-1776674700-1776704400@www.marrakech-accueil.com
SUMMARY:MARCHE A LA JOURNEE DU LUNDI - TADCHERT KIK\, SUIVIE D'UN REPAS CHEZ DAR ADALI PARAGLIDING
DESCRIPTION:Jean Marc\, Christophe et Remy vous proposent une marche à la  journée 8 kms\, 220 mètres de dénivelé\, Altitude maxi 1500 mètres\, suivie d’un repas chez DAR ADALI PARAGLIDING.  Menu : Salade Marocaine\, Brochettes de Poulet\, Riz – Frites\, Tagine Poulet\, Dessert fruits de saison\, Thé-Eau = 130 Dhs     Prévoir de la monnaie. \nRDV 8h45\, départ 9h00\, le long de la route 200 m après l’intersection du Menara Mall\, direction Tahannaout  / Ourika. (Géolocalisation en bas)\nIndiquez plus bas si vous avez besoin d’être covoituré (50 DH) ou au contraire\, combien de places vous proposez au covoiturage dans votre voiture.\n\nPrévoir chaussures de marche\, chapeau\, bâtons\, pique-nique et eau en quantité suffisante. Dans votre sac à dos\, même s’il fait beau\, prévoir coupe-vent pour la pluie et un vêtement chaud type polaire.  En tant que randonneur vous reconnaissez participer à la randonnée à vos propres risques. Marrakech Accueil n’est en aucun cas responsable de pertes\, dommages\, blessures légères ou fatales endurées par eux ou leur famille. Marrakech Accueil oblige chacun a souscrire une assurance suffisante à la couverture de toute perte\, dommages et blessures. 
URL:https://www.marrakech-accueil.com/evenements/marche-a-la-journee-du-lundi-tadchert-kik-suivie-dun-repas-chez-dar-adali-paragliding/
LOCATION:Le long de la route 300 m après Menara MALL – Randonnées\, JX8V+GJJ\, Marrakech\, marrakech\, Morocco
ATTACH;FMTTYPE=image/jpeg:https://www.marrakech-accueil.com/wp-content/uploads/2023/11/7b4b8ea8-6044-449a-a4ce-5f64df61fce1.jpg
ORGANIZER;CN="Jean-Marc Charvolin - Randonn%C3%A9es":MAILTO:jeanmarc.charvolin@yahoo.fr
END:VEVENT
BEGIN:VEVENT
DTSTART;TZID=Europe/Paris:20260420T180000
DTEND;TZID=Europe/Paris:20260420T190000
DTSTAMP:20260420T133751
CREATED:20260402T080808Z
LAST-MODIFIED:20260406T155409Z
UID:11814-1776708000-1776711600@www.marrakech-accueil.com
SUMMARY:CONCERT DE MUSIQUE
DESCRIPTION:Je vous propose le lundi 20 avril prochain\, un concert de musique Andalouse\, au musée de la musique en médina.Le concert a lieu de 18h à 19h et sera suivi d’un thé avec petits gâteaux sur la terrasse du riad.Vous devez réserver vos places\, sur le site internet du musée.Le prix est de 120 dhs par personne. \n  \n\nJe
URL:https://www.marrakech-accueil.com/evenements/concert-de-musique/
ATTACH;FMTTYPE=image/jpeg:https://www.marrakech-accueil.com/wp-content/uploads/2026/04/IMG_4261.jpeg
ORGANIZER;CN="Catherine Delaunay":MAILTO:catherine_delaunay@hotmail.fr
END:VEVENT
END:VCALENDAR