BEGIN:VCALENDAR
VERSION:2.0
PRODID:-//Marrakech Accueil - ECPv6.15.20//NONSGML v1.0//EN
CALSCALE:GREGORIAN
METHOD:PUBLISH
X-ORIGINAL-URL:https://www.marrakech-accueil.com
X-WR-CALDESC:Évènements pour Marrakech Accueil
REFRESH-INTERVAL;VALUE=DURATION:PT1H
X-Robots-Tag:noindex
X-PUBLISHED-TTL:PT1H
BEGIN:VTIMEZONE
TZID:Africa/Casablanca
BEGIN:DAYLIGHT
TZOFFSETFROM:+0100
TZOFFSETTO:+0000
TZNAME:+00
DTSTART:20250223T020000
END:DAYLIGHT
BEGIN:STANDARD
TZOFFSETFROM:+0000
TZOFFSETTO:+0100
TZNAME:+01
DTSTART:20250406T020000
END:STANDARD
BEGIN:DAYLIGHT
TZOFFSETFROM:+0100
TZOFFSETTO:+0000
TZNAME:+00
DTSTART:20260215T020000
END:DAYLIGHT
BEGIN:STANDARD
TZOFFSETFROM:+0000
TZOFFSETTO:+0100
TZNAME:+01
DTSTART:20260322T020000
END:STANDARD
BEGIN:DAYLIGHT
TZOFFSETFROM:+0100
TZOFFSETTO:+0000
TZNAME:+00
DTSTART:20270207T020000
END:DAYLIGHT
BEGIN:STANDARD
TZOFFSETFROM:+0000
TZOFFSETTO:+0100
TZNAME:+01
DTSTART:20270314T020000
END:STANDARD
END:VTIMEZONE
BEGIN:VTIMEZONE
TZID:Europe/Paris
BEGIN:DAYLIGHT
TZOFFSETFROM:+0100
TZOFFSETTO:+0200
TZNAME:CEST
DTSTART:20250330T010000
END:DAYLIGHT
BEGIN:STANDARD
TZOFFSETFROM:+0200
TZOFFSETTO:+0100
TZNAME:CET
DTSTART:20251026T010000
END:STANDARD
BEGIN:DAYLIGHT
TZOFFSETFROM:+0100
TZOFFSETTO:+0200
TZNAME:CEST
DTSTART:20260329T010000
END:DAYLIGHT
BEGIN:STANDARD
TZOFFSETFROM:+0200
TZOFFSETTO:+0100
TZNAME:CET
DTSTART:20261025T010000
END:STANDARD
BEGIN:DAYLIGHT
TZOFFSETFROM:+0100
TZOFFSETTO:+0200
TZNAME:CEST
DTSTART:20270328T010000
END:DAYLIGHT
BEGIN:STANDARD
TZOFFSETFROM:+0200
TZOFFSETTO:+0100
TZNAME:CET
DTSTART:20271031T010000
END:STANDARD
END:VTIMEZONE
BEGIN:VEVENT
DTSTART;TZID=Africa/Casablanca:20260422T093000
DTEND;TZID=Africa/Casablanca:20260422T170000
DTSTAMP:20260425T200144
CREATED:20260312T084527Z
LAST-MODIFIED:20260409T070455Z
UID:11616-1776850200-1776877200@www.marrakech-accueil.com
SUMMARY:TOURNOI DE TAROT
DESCRIPTION:Christian organise un tournoi de TAROT le 22 avril à 9h30 chez Amani. 20dhs d inscription\nRepas 200 dhs buffet eau thé café compris\nNb de participants 20 maximum.\nInscription obligatoire sur le site avant le 15 avril
URL:https://www.marrakech-accueil.com/evenements/tournoi-de-belote/
LOCATION:Hôtel AMANI\, 11 Rue Abou Bakr Seddiq\,\, Marrakesh\, 40000\, Morocco
ATTACH;FMTTYPE=image/jpeg:https://www.marrakech-accueil.com/wp-content/uploads/2021/12/jeu-tarot.jpg
ORGANIZER;CN="Christian Descarpentries":MAILTO:christian.d59@orange.fr
END:VEVENT
BEGIN:VEVENT
DTSTART;TZID=Europe/Paris:20260422T100000
DTEND;TZID=Europe/Paris:20260422T110000
DTSTAMP:20260425T200144
CREATED:20260331T123519Z
LAST-MODIFIED:20260331T123519Z
UID:11761-1776852000-1776855600@www.marrakech-accueil.com
SUMMARY:Cours renfo musculaire - Mobilité Equilibre
DESCRIPTION:Valéryane vous propose un cours d’une heure de Pilates et stretching toutes les semaines : \nLes mercredis à 10 h stretching\, mobilité\, abdos\, respiration. \nLes vendredis à 10 h équilibre et renforcement musculaire. \nCabinet ALB avenue du colonel Gazeille  – Gueliz ( rue parallèle à l’institut français et au lycée Victor Hugo  \n Centre d’affaire Renoir RDC Appt N2 \nUn cours d’essai vous est proposé au tarif de 120 dh \nAbonnement 10 cours 1500 dh valable 3 mois \nRenseignements complémentaires\, inscriptions\, désinscriptions sur le wattsapp de Valéryane \n+212 693-544325 \nAttention mini 3 personnes pour assurer le cours
URL:https://www.marrakech-accueil.com/evenements/cours-renfo-musculaire-mobilite-equilibre-38/
LOCATION:CABINET ALB
ATTACH;FMTTYPE=image/jpeg:https://www.marrakech-accueil.com/wp-content/uploads/2024/10/ae6b8a54-1f9a-4fbc-888e-dd149c092994.jpg
ORGANIZER;CN="Babeth & Philippe Dufrenoy - Randonn%C3%A9es":MAILTO:dufrenoyp@gmail.com
END:VEVENT
BEGIN:VEVENT
DTSTART;TZID=Africa/Casablanca:20260422T140000
DTEND;TZID=Africa/Casablanca:20260422T170000
DTSTAMP:20260425T200144
CREATED:20260101T140809Z
LAST-MODIFIED:20260116T084445Z
UID:11143-1776866400-1776877200@www.marrakech-accueil.com
SUMMARY:Jeu de cartes - TAROT
DESCRIPTION:
URL:https://www.marrakech-accueil.com/evenements/jeu-de-cartes-tarot-42/
LOCATION:Hôtel AMANI\, 11 Rue Abou Bakr Seddiq\,\, Marrakesh\, 40000\, Morocco
ATTACH;FMTTYPE=image/png:https://www.marrakech-accueil.com/wp-content/uploads/2025/11/Tarot.png
ORGANIZER;CN="Dany Segall":MAILTO:dany.segall@hotmail.fr
END:VEVENT
BEGIN:VEVENT
DTSTART;TZID=Africa/Casablanca:20260422T140000
DTEND;TZID=Africa/Casablanca:20260422T170000
DTSTAMP:20260425T200144
CREATED:20260101T140838Z
LAST-MODIFIED:20260116T084511Z
UID:11145-1776866400-1776877200@www.marrakech-accueil.com
SUMMARY:Jeu de Cartes - BELOTE
DESCRIPTION:
URL:https://www.marrakech-accueil.com/evenements/jeu-de-cartes-belote-32/
LOCATION:Hôtel AMANI\, 11 Rue Abou Bakr Seddiq\,\, Marrakesh\, 40000\, Morocco
ATTACH;FMTTYPE=image/png:https://www.marrakech-accueil.com/wp-content/uploads/2020/01/Belote-.png
ORGANIZER;CN="Dany Segall":MAILTO:dany.segall@hotmail.fr
END:VEVENT
END:VCALENDAR