BEGIN:VCALENDAR
VERSION:2.0
PRODID:-//Marrakech Accueil - ECPv6.15.20//NONSGML v1.0//EN
CALSCALE:GREGORIAN
METHOD:PUBLISH
X-ORIGINAL-URL:https://www.marrakech-accueil.com
X-WR-CALDESC:Évènements pour Marrakech Accueil
REFRESH-INTERVAL;VALUE=DURATION:PT1H
X-Robots-Tag:noindex
X-PUBLISHED-TTL:PT1H
BEGIN:VTIMEZONE
TZID:Europe/Paris
BEGIN:DAYLIGHT
TZOFFSETFROM:+0100
TZOFFSETTO:+0200
TZNAME:CEST
DTSTART:20250330T010000
END:DAYLIGHT
BEGIN:STANDARD
TZOFFSETFROM:+0200
TZOFFSETTO:+0100
TZNAME:CET
DTSTART:20251026T010000
END:STANDARD
BEGIN:DAYLIGHT
TZOFFSETFROM:+0100
TZOFFSETTO:+0200
TZNAME:CEST
DTSTART:20260329T010000
END:DAYLIGHT
BEGIN:STANDARD
TZOFFSETFROM:+0200
TZOFFSETTO:+0100
TZNAME:CET
DTSTART:20261025T010000
END:STANDARD
BEGIN:DAYLIGHT
TZOFFSETFROM:+0100
TZOFFSETTO:+0200
TZNAME:CEST
DTSTART:20270328T010000
END:DAYLIGHT
BEGIN:STANDARD
TZOFFSETFROM:+0200
TZOFFSETTO:+0100
TZNAME:CET
DTSTART:20271031T010000
END:STANDARD
END:VTIMEZONE
BEGIN:VTIMEZONE
TZID:Africa/Casablanca
BEGIN:DAYLIGHT
TZOFFSETFROM:+0100
TZOFFSETTO:+0000
TZNAME:+00
DTSTART:20250223T020000
END:DAYLIGHT
BEGIN:STANDARD
TZOFFSETFROM:+0000
TZOFFSETTO:+0100
TZNAME:+01
DTSTART:20250406T020000
END:STANDARD
BEGIN:DAYLIGHT
TZOFFSETFROM:+0100
TZOFFSETTO:+0000
TZNAME:+00
DTSTART:20260215T020000
END:DAYLIGHT
BEGIN:STANDARD
TZOFFSETFROM:+0000
TZOFFSETTO:+0100
TZNAME:+01
DTSTART:20260322T020000
END:STANDARD
BEGIN:DAYLIGHT
TZOFFSETFROM:+0100
TZOFFSETTO:+0000
TZNAME:+00
DTSTART:20270207T020000
END:DAYLIGHT
BEGIN:STANDARD
TZOFFSETFROM:+0000
TZOFFSETTO:+0100
TZNAME:+01
DTSTART:20270314T020000
END:STANDARD
END:VTIMEZONE
BEGIN:VEVENT
DTSTART;TZID=Europe/Paris:20260429T090000
DTEND;TZID=Europe/Paris:20260429T110000
DTSTAMP:20260425T200723
CREATED:20260331T195018Z
LAST-MODIFIED:20260331T195632Z
UID:11780-1777453200-1777460400@www.marrakech-accueil.com
SUMMARY:FORMATION PETANQUE du 29 avril 2026
DESCRIPTION:Dan Mermet vous propose : \nUne formation pétanque Marrakech accueil.\nFormateur des pointeurs Dan \nFormateur des tireurs Patrick \n  \nLa vocation et l’objectif de l’atelier de formation au jeu de pétanque :\n– Former les débutants et initiés au point et pour certains au tir. \n– Perfectionner au point ou au tir celles et ceux qui jouent aux séances des mardis et le vendredis. \n  \nCette formation de 3 séances du mercredi matin de 09 h à 11 h prépare aux parties des mardis et vendredis. \nPatrick et Dan veilleront à l’intégration des nouveaux adhérents dans le groupe. \nLes cessions sont ouvertes toutes les 3 semaines . \nUn groupe « pétanque formation » est créé\, demandez votre inscription. \n  \nPS : pour la formation\, des boules de prêt sont disponibles.
URL:https://www.marrakech-accueil.com/evenements/formation-petanque-du-29-avril-2026/
ATTACH;FMTTYPE=image/png:https://www.marrakech-accueil.com/wp-content/uploads/2025/11/25805de38f6669fc0ff85c3a546497a5.png
ORGANIZER;CN="Criss Mermet":MAILTO:criss.mermet@sfr.fr
END:VEVENT
BEGIN:VEVENT
DTSTART;TZID=Europe/Paris:20260429T100000
DTEND;TZID=Europe/Paris:20260429T110000
DTSTAMP:20260425T200723
CREATED:20260331T123648Z
LAST-MODIFIED:20260331T123648Z
UID:11766-1777456800-1777460400@www.marrakech-accueil.com
SUMMARY:Cours renfo musculaire - Mobilité Equilibre
DESCRIPTION:Valéryane vous propose un cours d’une heure de Pilates et stretching toutes les semaines : \nLes mercredis à 10 h stretching\, mobilité\, abdos\, respiration. \nLes vendredis à 10 h équilibre et renforcement musculaire. \nCabinet ALB avenue du colonel Gazeille  – Gueliz ( rue parallèle à l’institut français et au lycée Victor Hugo  \n Centre d’affaire Renoir RDC Appt N2 \nUn cours d’essai vous est proposé au tarif de 120 dh \nAbonnement 10 cours 1500 dh valable 3 mois \nRenseignements complémentaires\, inscriptions\, désinscriptions sur le wattsapp de Valéryane \n+212 693-544325 \nAttention mini 3 personnes pour assurer le cours
URL:https://www.marrakech-accueil.com/evenements/cours-renfo-musculaire-mobilite-equilibre-40/
LOCATION:CABINET ALB
ATTACH;FMTTYPE=image/jpeg:https://www.marrakech-accueil.com/wp-content/uploads/2024/10/ae6b8a54-1f9a-4fbc-888e-dd149c092994.jpg
ORGANIZER;CN="Babeth & Philippe Dufrenoy - Randonn%C3%A9es":MAILTO:dufrenoyp@gmail.com
END:VEVENT
BEGIN:VEVENT
DTSTART;TZID=Africa/Casablanca:20260429T140000
DTEND;TZID=Africa/Casablanca:20260429T170000
DTSTAMP:20260425T200723
CREATED:20260410T075302Z
LAST-MODIFIED:20260410T075302Z
UID:11896-1777471200-1777482000@www.marrakech-accueil.com
SUMMARY:Jeu de cartes - TAROT
DESCRIPTION:
URL:https://www.marrakech-accueil.com/evenements/jeu-de-cartes-tarot/
LOCATION:Hôtel AMANI\, 11 Rue Abou Bakr Seddiq\,\, Marrakesh\, 40000\, Morocco
ATTACH;FMTTYPE=image/png:https://www.marrakech-accueil.com/wp-content/uploads/2025/11/Tarot.png
ORGANIZER;CN="Dany Segall":MAILTO:dany.segall@hotmail.fr
END:VEVENT
BEGIN:VEVENT
DTSTART;TZID=Africa/Casablanca:20260429T140000
DTEND;TZID=Africa/Casablanca:20260429T170000
DTSTAMP:20260425T200723
CREATED:20260410T075343Z
LAST-MODIFIED:20260410T075343Z
UID:11899-1777471200-1777482000@www.marrakech-accueil.com
SUMMARY:Jeu de Cartes - BELOTE
DESCRIPTION:
URL:https://www.marrakech-accueil.com/evenements/jeu-de-cartes-belote/
LOCATION:Hôtel AMANI\, 11 Rue Abou Bakr Seddiq\,\, Marrakesh\, 40000\, Morocco
ATTACH;FMTTYPE=image/png:https://www.marrakech-accueil.com/wp-content/uploads/2020/01/Belote-.png
ORGANIZER;CN="Dany Segall":MAILTO:dany.segall@hotmail.fr
END:VEVENT
BEGIN:VEVENT
DTSTART;TZID=Europe/Paris:20260429T200000
DTEND;TZID=Europe/Paris:20260429T233000
DTSTAMP:20260425T200723
CREATED:20260325T162642Z
LAST-MODIFIED:20260325T162642Z
UID:11641-1777492800-1777505400@www.marrakech-accueil.com
SUMMARY:soirée karaoké 80' au bistrot Amaia  "SERIEUX S'ABSTENIR !!! "
DESCRIPTION:Devenez la star d’un soir\, et vibrez sous les feux de la rampe.\nUne scène professionnelle\, l’un des plus grand répertoire du monde\, de la musique\, des spectateurs.\nDésormais\, vous ne pourriez plus jamais dire :” j’aurais voulu être un Artiste !!! \nAU BISTROT AMAIA \n\nEntre 20 et 30 personnes pour mettre une super ambiance \nOrganisateur Claude Fatta 06 61 23 67 10 \nclaudefatta@hotmail.com
URL:https://www.marrakech-accueil.com/evenements/soiree-karaoke-80-au-bistrot-amaia-serieux-sabstenir/
LOCATION:38/39 Avenue Moulay El Hassan 1er hivernage\, Marrakesh 40000\, le cantobar
ATTACH;FMTTYPE=image/jpeg:https://www.marrakech-accueil.com/wp-content/uploads/2023/10/karaoke.jpeg
ORGANIZER;CN="Claude Fatta":MAILTO:claudefatta@hotmail.com
END:VEVENT
END:VCALENDAR