BEGIN:VCALENDAR
VERSION:2.0
PRODID:-//Marrakech Accueil - ECPv6.15.20//NONSGML v1.0//EN
CALSCALE:GREGORIAN
METHOD:PUBLISH
X-WR-CALNAME:Marrakech Accueil
X-ORIGINAL-URL:https://www.marrakech-accueil.com
X-WR-CALDESC:Évènements pour Marrakech Accueil
REFRESH-INTERVAL;VALUE=DURATION:PT1H
X-Robots-Tag:noindex
X-PUBLISHED-TTL:PT1H
BEGIN:VTIMEZONE
TZID:Europe/Paris
BEGIN:DAYLIGHT
TZOFFSETFROM:+0100
TZOFFSETTO:+0200
TZNAME:CEST
DTSTART:20250330T010000
END:DAYLIGHT
BEGIN:STANDARD
TZOFFSETFROM:+0200
TZOFFSETTO:+0100
TZNAME:CET
DTSTART:20251026T010000
END:STANDARD
BEGIN:DAYLIGHT
TZOFFSETFROM:+0100
TZOFFSETTO:+0200
TZNAME:CEST
DTSTART:20260329T010000
END:DAYLIGHT
BEGIN:STANDARD
TZOFFSETFROM:+0200
TZOFFSETTO:+0100
TZNAME:CET
DTSTART:20261025T010000
END:STANDARD
BEGIN:DAYLIGHT
TZOFFSETFROM:+0100
TZOFFSETTO:+0200
TZNAME:CEST
DTSTART:20270328T010000
END:DAYLIGHT
BEGIN:STANDARD
TZOFFSETFROM:+0200
TZOFFSETTO:+0100
TZNAME:CET
DTSTART:20271031T010000
END:STANDARD
END:VTIMEZONE
BEGIN:VEVENT
DTSTART;TZID=Europe/Paris:20260430T080000
DTEND;TZID=Europe/Paris:20260430T180000
DTSTAMP:20260425T200647
CREATED:20260423T155221Z
LAST-MODIFIED:20260423T155221Z
UID:12070-1777536000-1777572000@www.marrakech-accueil.com
SUMMARY:MARCHE A LA JOURNEE POUR LES MARCHEURS DU JEUDI Le Refuge du Taureau
DESCRIPTION:Babeth et Philippe vous proposent une marche difficile a la  journée\, sur la route de l’Oukaimeden\, le refuge du taureau \n17 kms\, 1000 m de dénivelé . Départ du Kech à 8h. \nL’heure et le lieu du rendez vous se trouvent plus bas.\nIndiquez plus bas si vous avez besoin d’être covoituré (50DH) ou au contraire\, combien de places vous proposez au covoiturage dans votre voiture.\n\nPrévoir chaussures de marche\, chapeau\, bâtons\, pique-nique et eau en quantité suffisante. Dans votre sac à dos\, même s’il fait beau\, prévoir coupe-vent pour la pluie et un vêtement chaud type polaire.  En tant que randonneur vous reconnaissez participer à la randonnée à vos propres risques. Marrakech Accueil n’est en aucun cas responsable de pertes\, dommages\, blessures légères ou fatales endurées par eux ou leur famille. Marrakech Accueil oblige chacun a souscrire une assurance suffisante à la couverture de toute perte\, dommages et blessures.
URL:https://www.marrakech-accueil.com/evenements/marche-a-la-journee-pour-les-marcheurs-du-jeudi-le-refuge-du-taureau/
LOCATION:le kech
ATTACH;FMTTYPE=image/jpeg:https://www.marrakech-accueil.com/wp-content/uploads/2025/10/dc773a23-ee2a-43c0-99b7-da99c5dc003d-300x300-1.jpg
ORGANIZER;CN="Babeth & Philippe Dufrenoy - Randonn%C3%A9es":MAILTO:dufrenoyp@gmail.com
END:VEVENT
BEGIN:VEVENT
DTSTART;TZID=Europe/Paris:20260430T081500
DTEND;TZID=Europe/Paris:20260430T170000
DTSTAMP:20260425T200647
CREATED:20260424T140651Z
LAST-MODIFIED:20260424T140651Z
UID:12072-1777536900-1777568400@www.marrakech-accueil.com
SUMMARY:MARCHE A LA JOURNEE ADAPTEE AUX BONS MARCHEURS DU LUNDI - ASCENSION DU MONT TEGZIM
DESCRIPTION:Jean Marc\, Christophe et Remy vous proposent une marche à la  journée 7 kms\, 400 m de dénivelé. Altitude maxi 1000 mètres. Attention sentier à flans de montagne et  » mettre les mains  » pour le sommet. Changement du lieu de RDV \nRDV 8h15\, départ 8h30\, sur le parking de Marjane route de Casa \, devant l’entrée principale du magasin.\nIndiquez plus bas si vous avez besoin d’être covoituré (50 DH) ou au contraire\, combien de places vous proposez au covoiturage dans votre voiture.\n\nPrévoir chaussures de marche\, chapeau\, bâtons\, pique-nique et eau en quantité suffisante. Dans votre sac à dos\, même s’il fait beau\, prévoir coupe-vent pour la pluie et un vêtement chaud type polaire.  En tant que randonneur vous reconnaissez participer à la randonnée à vos propres risques. Marrakech Accueil n’est en aucun cas responsable de pertes\, dommages\, blessures légères ou fatales endurées par eux ou leur famille. Marrakech Accueil oblige chacun a souscrire une assurance suffisante à la couverture de toute perte\, dommages et blessures. 
URL:https://www.marrakech-accueil.com/evenements/marche-a-la-journee-adaptee-aux-bons-marcheurs-du-lundi-ascension-du-mont-tegzim/
LOCATION:Le parking de Marjane\,route de Casa\, devant l’entrée principale
ATTACH;FMTTYPE=image/jpeg:https://www.marrakech-accueil.com/wp-content/uploads/2023/11/7b4b8ea8-6044-449a-a4ce-5f64df61fce1.jpg
ORGANIZER;CN="Jean-Marc Charvolin - Randonn%C3%A9es":MAILTO:jeanmarc.charvolin@yahoo.fr
END:VEVENT
END:VCALENDAR