BEGIN:VCALENDAR
VERSION:2.0
PRODID:-//Marrakech Accueil - ECPv6.15.20//NONSGML v1.0//EN
CALSCALE:GREGORIAN
METHOD:PUBLISH
X-ORIGINAL-URL:https://www.marrakech-accueil.com
X-WR-CALDESC:Évènements pour Marrakech Accueil
REFRESH-INTERVAL;VALUE=DURATION:PT1H
X-Robots-Tag:noindex
X-PUBLISHED-TTL:PT1H
BEGIN:VTIMEZONE
TZID:Africa/Casablanca
BEGIN:DAYLIGHT
TZOFFSETFROM:+0100
TZOFFSETTO:+0000
TZNAME:+00
DTSTART:20250223T020000
END:DAYLIGHT
BEGIN:STANDARD
TZOFFSETFROM:+0000
TZOFFSETTO:+0100
TZNAME:+01
DTSTART:20250406T020000
END:STANDARD
BEGIN:DAYLIGHT
TZOFFSETFROM:+0100
TZOFFSETTO:+0000
TZNAME:+00
DTSTART:20260215T020000
END:DAYLIGHT
BEGIN:STANDARD
TZOFFSETFROM:+0000
TZOFFSETTO:+0100
TZNAME:+01
DTSTART:20260322T020000
END:STANDARD
BEGIN:DAYLIGHT
TZOFFSETFROM:+0100
TZOFFSETTO:+0000
TZNAME:+00
DTSTART:20270207T020000
END:DAYLIGHT
BEGIN:STANDARD
TZOFFSETFROM:+0000
TZOFFSETTO:+0100
TZNAME:+01
DTSTART:20270314T020000
END:STANDARD
END:VTIMEZONE
BEGIN:VTIMEZONE
TZID:Europe/Paris
BEGIN:DAYLIGHT
TZOFFSETFROM:+0100
TZOFFSETTO:+0200
TZNAME:CEST
DTSTART:20250330T010000
END:DAYLIGHT
BEGIN:STANDARD
TZOFFSETFROM:+0200
TZOFFSETTO:+0100
TZNAME:CET
DTSTART:20251026T010000
END:STANDARD
BEGIN:DAYLIGHT
TZOFFSETFROM:+0100
TZOFFSETTO:+0200
TZNAME:CEST
DTSTART:20260329T010000
END:DAYLIGHT
BEGIN:STANDARD
TZOFFSETFROM:+0200
TZOFFSETTO:+0100
TZNAME:CET
DTSTART:20261025T010000
END:STANDARD
BEGIN:DAYLIGHT
TZOFFSETFROM:+0100
TZOFFSETTO:+0200
TZNAME:CEST
DTSTART:20270328T010000
END:DAYLIGHT
BEGIN:STANDARD
TZOFFSETFROM:+0200
TZOFFSETTO:+0100
TZNAME:CET
DTSTART:20271031T010000
END:STANDARD
END:VTIMEZONE
BEGIN:VEVENT
DTSTART;TZID=Africa/Casablanca:20260501T090000
DTEND;TZID=Africa/Casablanca:20260501T113000
DTSTAMP:20260425T200724
CREATED:20260422T170155Z
LAST-MODIFIED:20260422T170155Z
UID:12060-1777626000-1777635000@www.marrakech-accueil.com
SUMMARY:Pétanque
DESCRIPTION:Vous devez vous inscrire sur le site. En cas de difficulté\, contacter le responsable de l’activité Criss Mermet WhatsApp +212 6 67 06 89 83.
URL:https://www.marrakech-accueil.com/evenements/petanque-5/
LOCATION:Terrain de Pétanque\, Jardin de l’Agdal Avenue de Tassiltante Remparts de Marrakech Parking au milieu du parc\, J27F+8W Marrakech\, Maroc\, Marrakech\, Sélectionner un État :\, 40000\, Morocco
ATTACH;FMTTYPE=image/jpeg:https://www.marrakech-accueil.com/wp-content/uploads/2019/12/589afd9f-37ac-4079-9099-e5c4f759623c.jpg
ORGANIZER;CN="Bruno Jallud":MAILTO:brunojallud@outlook.com
END:VEVENT
BEGIN:VEVENT
DTSTART;TZID=Europe/Paris:20260501T100000
DTEND;TZID=Europe/Paris:20260501T110000
DTSTAMP:20260425T200724
CREATED:20260331T123733Z
LAST-MODIFIED:20260331T123733Z
UID:11768-1777629600-1777633200@www.marrakech-accueil.com
SUMMARY:Cours renfo musculaire - Mobilité Equilibre
DESCRIPTION:Valéryane vous propose un cours d’une heure de Pilates et stretching toutes les semaines : \nLes mercredis à 10 h stretching\, mobilité\, abdos\, respiration. \nLes vendredis à 10 h équilibre et renforcement musculaire. \nCabinet ALB avenue du colonel Gazeille  – Gueliz ( rue parallèle à l’institut français et au lycée Victor Hugo  \n Centre d’affaire Renoir RDC Appt N2 \nUn cours d’essai vous est proposé au tarif de 120 dh \nAbonnement 10 cours 1500 dh valable 3 mois \nRenseignements complémentaires\, inscriptions\, désinscriptions sur le wattsapp de Valéryane \n+212 693-544325 \nAttention mini 3 personnes pour assurer le cours
URL:https://www.marrakech-accueil.com/evenements/cours-renfo-musculaire-mobilite-equilibre-41/
LOCATION:CABINET ALB
ATTACH;FMTTYPE=image/jpeg:https://www.marrakech-accueil.com/wp-content/uploads/2024/10/ae6b8a54-1f9a-4fbc-888e-dd149c092994.jpg
ORGANIZER;CN="Babeth & Philippe Dufrenoy - Randonn%C3%A9es":MAILTO:dufrenoyp@gmail.com
END:VEVENT
BEGIN:VEVENT
DTSTART;TZID=Europe/Paris:20260501T150000
DTEND;TZID=Europe/Paris:20260501T170000
DTSTAMP:20260425T200724
CREATED:20260410T103350Z
LAST-MODIFIED:20260417T193125Z
UID:11988-1777647600-1777654800@www.marrakech-accueil.com
SUMMARY:SPEAK ENGLISH 1/5
DESCRIPTION:Non ce n’est pas un retour à l’école… mais un moment pour converser en anglais dans une ambiance amicale avec John\, a real British\, et Dominique un vrai français.\nPas de stress\, pas de devoirs ! Avec quelques mots\, des sourires et un peu d’audace\, la conversation démarre. Les erreurs ? Elles font partie du plaisir. Nous abordons des sujets d’actualité. \nAlors ready ? Let’s talk together ! »
URL:https://www.marrakech-accueil.com/evenements/speak-english-3/
LOCATION:Rotisserie de la Paix\, Guéliz، 68 Rue Yougoslavie\, Marrakech\, 40000\, Morocco
ATTACH;FMTTYPE=image/jpeg:https://www.marrakech-accueil.com/wp-content/uploads/2026/04/IMG_4320.jpeg
ORGANIZER;CN="Dominique GAVALDA":MAILTO:dominiquegavalda@gmail.com
END:VEVENT
END:VCALENDAR