BEGIN:VCALENDAR
VERSION:2.0
PRODID:-//Marrakech Accueil - ECPv6.15.20//NONSGML v1.0//EN
CALSCALE:GREGORIAN
METHOD:PUBLISH
X-WR-CALNAME:Marrakech Accueil
X-ORIGINAL-URL:https://www.marrakech-accueil.com
X-WR-CALDESC:Évènements pour Marrakech Accueil
REFRESH-INTERVAL;VALUE=DURATION:PT1H
X-Robots-Tag:noindex
X-PUBLISHED-TTL:PT1H
BEGIN:VTIMEZONE
TZID:Africa/Casablanca
BEGIN:DAYLIGHT
TZOFFSETFROM:+0100
TZOFFSETTO:+0000
TZNAME:+00
DTSTART:20250223T020000
END:DAYLIGHT
BEGIN:STANDARD
TZOFFSETFROM:+0000
TZOFFSETTO:+0100
TZNAME:+01
DTSTART:20250406T020000
END:STANDARD
BEGIN:DAYLIGHT
TZOFFSETFROM:+0100
TZOFFSETTO:+0000
TZNAME:+00
DTSTART:20260215T020000
END:DAYLIGHT
BEGIN:STANDARD
TZOFFSETFROM:+0000
TZOFFSETTO:+0100
TZNAME:+01
DTSTART:20260322T020000
END:STANDARD
BEGIN:DAYLIGHT
TZOFFSETFROM:+0100
TZOFFSETTO:+0000
TZNAME:+00
DTSTART:20270207T020000
END:DAYLIGHT
BEGIN:STANDARD
TZOFFSETFROM:+0000
TZOFFSETTO:+0100
TZNAME:+01
DTSTART:20270314T020000
END:STANDARD
END:VTIMEZONE
BEGIN:VEVENT
DTSTART;TZID=Africa/Casablanca:20260503T090000
DTEND;TZID=Africa/Casablanca:20260503T170000
DTSTAMP:20260425T200124
CREATED:20260326T132634Z
LAST-MODIFIED:20260326T132634Z
UID:11663-1777798800-1777827600@www.marrakech-accueil.com
SUMMARY:Tournoi de pétanque à la villa Catherine le 3 mai
DESCRIPTION:C EST REPARTI !!! \nPour les boulistes\, rdv à la villa Catherine à 9h15 pour débuter le tournoi à 9h30. Tournoi en triplettes avec tirage au sort (un tireur au moins par équipes) \n\nPrévoir 20 dhs pour la participation.\n\nPour les non boulistes\, rdv à partir de midi à la villa Catherine. \nSi vous n’avez pas de voiture\, contactez une personne inscrite qui pourra vous amener ou à défaut Bruno Jallud \nRepas du midi : \n\nun apéritif type punch ou sangria\nun buffet brunch complet comprenant des entrées variées et également des plats principaux (viande\, poissons\, tajine\, poulet farcie\, agneau confit\, tanjia\,….) avec leur accompagnements. Cuisine fraiche du jour.\nle dessert au choix\nThé café eau compris\nTarif : 300 Dhs par personnes.\n\nLes alcools sont non compris \nDate limite des inscriptions : dimanche 26 avril (dans les commentaires\, notez si vous participez uniquement au repas) \nPour tout complément d’information contactez Bruno Jallud +33 6 73270531 brunojallud@outlook.com \nou tel Maroc 0669570188 \nAdresse : Villa Catherine\, Sidi Abdallah Ghiat (18\,5 km de Marrakech) \nGéolocalisable sur WAZE et GOOGLE. Prenez la route de l’Ourika. Tournez à gauche au canal de ZARABA et longez le canal sur environ 7 km. Après avoir franchi deux oueds\, tournez à droite au panneau fléché indiquant la VILLA CATHERINE puis empruntez IMMÉDIATEMENT la piste qui part à gauche sur environ 800 mètres. Vous traversez un douar en suivant constamment les poteaux marqués de jaune qui sillonnent la piste \nCloture des inscriptions dimanche 26 avril \nLimite 60 personnes pour le repas et 36 pour le tournoi de pétanque \n 
URL:https://www.marrakech-accueil.com/evenements/tournoi-de-petanque-a-la-villa-catherine-le-3-mai/
LOCATION:Villa Catherine\, Villa Catherine Sidi Abdellah Ghiate\, Marrakech\, 40030\, Morocco
ATTACH;FMTTYPE=image/jpeg:https://www.marrakech-accueil.com/wp-content/uploads/2019/12/589afd9f-37ac-4079-9099-e5c4f759623c.jpg
ORGANIZER;CN="Bruno Jallud":MAILTO:brunojallud@outlook.com
END:VEVENT
END:VCALENDAR