BEGIN:VCALENDAR
VERSION:2.0
PRODID:-//Marrakech Accueil - ECPv6.15.20//NONSGML v1.0//EN
CALSCALE:GREGORIAN
METHOD:PUBLISH
X-WR-CALNAME:Marrakech Accueil
X-ORIGINAL-URL:https://www.marrakech-accueil.com
X-WR-CALDESC:Évènements pour Marrakech Accueil
REFRESH-INTERVAL;VALUE=DURATION:PT1H
X-Robots-Tag:noindex
X-PUBLISHED-TTL:PT1H
BEGIN:VTIMEZONE
TZID:Europe/Paris
BEGIN:DAYLIGHT
TZOFFSETFROM:+0100
TZOFFSETTO:+0200
TZNAME:CEST
DTSTART:20250330T010000
END:DAYLIGHT
BEGIN:STANDARD
TZOFFSETFROM:+0200
TZOFFSETTO:+0100
TZNAME:CET
DTSTART:20251026T010000
END:STANDARD
BEGIN:DAYLIGHT
TZOFFSETFROM:+0100
TZOFFSETTO:+0200
TZNAME:CEST
DTSTART:20260329T010000
END:DAYLIGHT
BEGIN:STANDARD
TZOFFSETFROM:+0200
TZOFFSETTO:+0100
TZNAME:CET
DTSTART:20261025T010000
END:STANDARD
BEGIN:DAYLIGHT
TZOFFSETFROM:+0100
TZOFFSETTO:+0200
TZNAME:CEST
DTSTART:20270328T010000
END:DAYLIGHT
BEGIN:STANDARD
TZOFFSETFROM:+0200
TZOFFSETTO:+0100
TZNAME:CET
DTSTART:20271031T010000
END:STANDARD
END:VTIMEZONE
BEGIN:VEVENT
DTSTART;TZID=Europe/Paris:20260524T123000
DTEND;TZID=Europe/Paris:20260524T160000
DTSTAMP:20260425T213211
CREATED:20260115T082532Z
LAST-MODIFIED:20260415T164243Z
UID:11313-1779625800-1779638400@www.marrakech-accueil.com
SUMMARY:Déjeuner de Pentecôte du 24/5
DESCRIPTION:Christian  vous propose de vous retrouver autour d’un déjeuner au restaurant LA ROSERAIE A OUIRGANE \nLE DIMANCHE 24 MAI 2026 \n370 dhs par personne hors boissons.\nApero sangria blanche et sangria rouge. \nEntrée plat dessert \nDetail du menu dans les prochains jours \nPossibilité de profiter de la piscine . \nÀ l inscription mettre si vous avez besoin de covoiturage (50dhs par personne)\nClôture des inscriptions le 31 mars. \n*Minimum 15 participants maximum 80\nparticipants. \n 
URL:https://www.marrakech-accueil.com/evenements/dejeuner-de-paques-a-la-roseraie/
LOCATION:La roseraie ouirgane\, OUIRGANE
ATTACH;FMTTYPE=image/jpeg:https://www.marrakech-accueil.com/wp-content/uploads/2026/01/telechargement-1.jpeg
ORGANIZER;CN="Christian Descarpentries":MAILTO:christian.d59@orange.fr
END:VEVENT
END:VCALENDAR