BEGIN:VCALENDAR
VERSION:2.0
PRODID:-//Marrakech Accueil - ECPv6.15.20//NONSGML v1.0//EN
CALSCALE:GREGORIAN
METHOD:PUBLISH
X-WR-CALNAME:Marrakech Accueil
X-ORIGINAL-URL:https://www.marrakech-accueil.com
X-WR-CALDESC:Évènements pour Marrakech Accueil
REFRESH-INTERVAL;VALUE=DURATION:PT1H
X-Robots-Tag:noindex
X-PUBLISHED-TTL:PT1H
BEGIN:VTIMEZONE
TZID:Africa/Casablanca
BEGIN:DAYLIGHT
TZOFFSETFROM:+0100
TZOFFSETTO:+0000
TZNAME:+00
DTSTART:20250223T020000
END:DAYLIGHT
BEGIN:STANDARD
TZOFFSETFROM:+0000
TZOFFSETTO:+0100
TZNAME:+01
DTSTART:20250406T020000
END:STANDARD
BEGIN:DAYLIGHT
TZOFFSETFROM:+0100
TZOFFSETTO:+0000
TZNAME:+00
DTSTART:20260215T020000
END:DAYLIGHT
BEGIN:STANDARD
TZOFFSETFROM:+0000
TZOFFSETTO:+0100
TZNAME:+01
DTSTART:20260322T020000
END:STANDARD
BEGIN:DAYLIGHT
TZOFFSETFROM:+0100
TZOFFSETTO:+0000
TZNAME:+00
DTSTART:20270207T020000
END:DAYLIGHT
BEGIN:STANDARD
TZOFFSETFROM:+0000
TZOFFSETTO:+0100
TZNAME:+01
DTSTART:20270314T020000
END:STANDARD
END:VTIMEZONE
BEGIN:VTIMEZONE
TZID:Europe/Paris
BEGIN:DAYLIGHT
TZOFFSETFROM:+0100
TZOFFSETTO:+0200
TZNAME:CEST
DTSTART:20250330T010000
END:DAYLIGHT
BEGIN:STANDARD
TZOFFSETFROM:+0200
TZOFFSETTO:+0100
TZNAME:CET
DTSTART:20251026T010000
END:STANDARD
BEGIN:DAYLIGHT
TZOFFSETFROM:+0100
TZOFFSETTO:+0200
TZNAME:CEST
DTSTART:20260329T010000
END:DAYLIGHT
BEGIN:STANDARD
TZOFFSETFROM:+0200
TZOFFSETTO:+0100
TZNAME:CET
DTSTART:20261025T010000
END:STANDARD
BEGIN:DAYLIGHT
TZOFFSETFROM:+0100
TZOFFSETTO:+0200
TZNAME:CEST
DTSTART:20270328T010000
END:DAYLIGHT
BEGIN:STANDARD
TZOFFSETFROM:+0200
TZOFFSETTO:+0100
TZNAME:CET
DTSTART:20271031T010000
END:STANDARD
END:VTIMEZONE
BEGIN:VEVENT
DTSTART;TZID=Africa/Casablanca:20260529T090000
DTEND;TZID=Africa/Casablanca:20260529T113000
DTSTAMP:20260425T213119
CREATED:20260422T170439Z
LAST-MODIFIED:20260422T170439Z
UID:12068-1780045200-1780054200@www.marrakech-accueil.com
SUMMARY:Pétanque
DESCRIPTION:Vous devez vous inscrire sur le site. En cas de difficulté\, contacter le responsable de l’activité Criss Mermet WhatsApp +212 6 67 06 89 83.
URL:https://www.marrakech-accueil.com/evenements/petanque-9/
LOCATION:Terrain de Pétanque\, Jardin de l’Agdal Avenue de Tassiltante Remparts de Marrakech Parking au milieu du parc\, J27F+8W Marrakech\, Maroc\, Marrakech\, Sélectionner un État :\, 40000\, Morocco
ATTACH;FMTTYPE=image/jpeg:https://www.marrakech-accueil.com/wp-content/uploads/2019/12/589afd9f-37ac-4079-9099-e5c4f759623c.jpg
ORGANIZER;CN="Bruno Jallud":MAILTO:brunojallud@outlook.com
END:VEVENT
BEGIN:VEVENT
DTSTART;TZID=Europe/Paris:20260529T150000
DTEND;TZID=Europe/Paris:20260529T170000
DTSTAMP:20260425T213119
CREATED:20260410T104707Z
LAST-MODIFIED:20260417T192857Z
UID:12000-1780066800-1780074000@www.marrakech-accueil.com
SUMMARY:SPEAK ENGLISH 29/6
DESCRIPTION:Non ce n’est pas un retour à l’école… mais un moment pour converser en anglais dans une ambiance amicale avec John\, a real British\, et Dominique un vrai français.\nPas de stress\, pas de devoirs ! Avec quelques mots\, des sourires et un peu d’audace\, la conversation démarre. Les erreurs ? Elles font partie du plaisir. Nous abordons des sujets d’actualité. \nAlors ready ? Let’s talk together ! »
URL:https://www.marrakech-accueil.com/evenements/speak-english-2/
LOCATION:Rotisserie de la Paix\, Guéliz، 68 Rue Yougoslavie\, Marrakech\, 40000\, Morocco
ATTACH;FMTTYPE=image/jpeg:https://www.marrakech-accueil.com/wp-content/uploads/2026/04/IMG_4320.jpeg
ORGANIZER;CN="Dominique GAVALDA":MAILTO:dominiquegavalda@gmail.com
END:VEVENT
END:VCALENDAR