BEGIN:VCALENDAR
VERSION:2.0
PRODID:-//Marrakech Accueil - ECPv6.15.20//NONSGML v1.0//EN
CALSCALE:GREGORIAN
METHOD:PUBLISH
X-WR-CALNAME:Marrakech Accueil
X-ORIGINAL-URL:https://www.marrakech-accueil.com
X-WR-CALDESC:Évènements pour Marrakech Accueil
REFRESH-INTERVAL;VALUE=DURATION:PT1H
X-Robots-Tag:noindex
X-PUBLISHED-TTL:PT1H
BEGIN:VTIMEZONE
TZID:Africa/Casablanca
BEGIN:DAYLIGHT
TZOFFSETFROM:+0100
TZOFFSETTO:+0000
TZNAME:+00
DTSTART:20250223T020000
END:DAYLIGHT
BEGIN:STANDARD
TZOFFSETFROM:+0000
TZOFFSETTO:+0100
TZNAME:+01
DTSTART:20250406T020000
END:STANDARD
BEGIN:DAYLIGHT
TZOFFSETFROM:+0100
TZOFFSETTO:+0000
TZNAME:+00
DTSTART:20260215T020000
END:DAYLIGHT
BEGIN:STANDARD
TZOFFSETFROM:+0000
TZOFFSETTO:+0100
TZNAME:+01
DTSTART:20260322T020000
END:STANDARD
BEGIN:DAYLIGHT
TZOFFSETFROM:+0100
TZOFFSETTO:+0000
TZNAME:+00
DTSTART:20270207T020000
END:DAYLIGHT
BEGIN:STANDARD
TZOFFSETFROM:+0000
TZOFFSETTO:+0100
TZNAME:+01
DTSTART:20270314T020000
END:STANDARD
END:VTIMEZONE
BEGIN:VTIMEZONE
TZID:Europe/Paris
BEGIN:DAYLIGHT
TZOFFSETFROM:+0100
TZOFFSETTO:+0200
TZNAME:CEST
DTSTART:20250330T010000
END:DAYLIGHT
BEGIN:STANDARD
TZOFFSETFROM:+0200
TZOFFSETTO:+0100
TZNAME:CET
DTSTART:20251026T010000
END:STANDARD
BEGIN:DAYLIGHT
TZOFFSETFROM:+0100
TZOFFSETTO:+0200
TZNAME:CEST
DTSTART:20260329T010000
END:DAYLIGHT
BEGIN:STANDARD
TZOFFSETFROM:+0200
TZOFFSETTO:+0100
TZNAME:CET
DTSTART:20261025T010000
END:STANDARD
BEGIN:DAYLIGHT
TZOFFSETFROM:+0100
TZOFFSETTO:+0200
TZNAME:CEST
DTSTART:20270328T010000
END:DAYLIGHT
BEGIN:STANDARD
TZOFFSETFROM:+0200
TZOFFSETTO:+0100
TZNAME:CET
DTSTART:20271031T010000
END:STANDARD
END:VTIMEZONE
BEGIN:VEVENT
DTSTART;TZID=Africa/Casablanca:20260501T090000
DTEND;TZID=Africa/Casablanca:20260501T113000
DTSTAMP:20260425T201247
CREATED:20260422T170155Z
LAST-MODIFIED:20260422T170155Z
UID:12060-1777626000-1777635000@www.marrakech-accueil.com
SUMMARY:Pétanque
DESCRIPTION:Vous devez vous inscrire sur le site. En cas de difficulté\, contacter le responsable de l’activité Criss Mermet WhatsApp +212 6 67 06 89 83.
URL:https://www.marrakech-accueil.com/evenements/petanque-5/
LOCATION:Terrain de Pétanque\, Jardin de l’Agdal Avenue de Tassiltante Remparts de Marrakech Parking au milieu du parc\, J27F+8W Marrakech\, Maroc\, Marrakech\, Sélectionner un État :\, 40000\, Morocco
ATTACH;FMTTYPE=image/jpeg:https://www.marrakech-accueil.com/wp-content/uploads/2019/12/589afd9f-37ac-4079-9099-e5c4f759623c.jpg
ORGANIZER;CN="Bruno Jallud":MAILTO:brunojallud@outlook.com
END:VEVENT
BEGIN:VEVENT
DTSTART;TZID=Europe/Paris:20260501T100000
DTEND;TZID=Europe/Paris:20260501T110000
DTSTAMP:20260425T201247
CREATED:20260331T123733Z
LAST-MODIFIED:20260331T123733Z
UID:11768-1777629600-1777633200@www.marrakech-accueil.com
SUMMARY:Cours renfo musculaire - Mobilité Equilibre
DESCRIPTION:Valéryane vous propose un cours d’une heure de Pilates et stretching toutes les semaines : \nLes mercredis à 10 h stretching\, mobilité\, abdos\, respiration. \nLes vendredis à 10 h équilibre et renforcement musculaire. \nCabinet ALB avenue du colonel Gazeille  – Gueliz ( rue parallèle à l’institut français et au lycée Victor Hugo  \n Centre d’affaire Renoir RDC Appt N2 \nUn cours d’essai vous est proposé au tarif de 120 dh \nAbonnement 10 cours 1500 dh valable 3 mois \nRenseignements complémentaires\, inscriptions\, désinscriptions sur le wattsapp de Valéryane \n+212 693-544325 \nAttention mini 3 personnes pour assurer le cours
URL:https://www.marrakech-accueil.com/evenements/cours-renfo-musculaire-mobilite-equilibre-41/
LOCATION:CABINET ALB
ATTACH;FMTTYPE=image/jpeg:https://www.marrakech-accueil.com/wp-content/uploads/2024/10/ae6b8a54-1f9a-4fbc-888e-dd149c092994.jpg
ORGANIZER;CN="Babeth & Philippe Dufrenoy - Randonn%C3%A9es":MAILTO:dufrenoyp@gmail.com
END:VEVENT
BEGIN:VEVENT
DTSTART;TZID=Europe/Paris:20260501T150000
DTEND;TZID=Europe/Paris:20260501T170000
DTSTAMP:20260425T201247
CREATED:20260410T103350Z
LAST-MODIFIED:20260417T193125Z
UID:11988-1777647600-1777654800@www.marrakech-accueil.com
SUMMARY:SPEAK ENGLISH 1/5
DESCRIPTION:Non ce n’est pas un retour à l’école… mais un moment pour converser en anglais dans une ambiance amicale avec John\, a real British\, et Dominique un vrai français.\nPas de stress\, pas de devoirs ! Avec quelques mots\, des sourires et un peu d’audace\, la conversation démarre. Les erreurs ? Elles font partie du plaisir. Nous abordons des sujets d’actualité. \nAlors ready ? Let’s talk together ! »
URL:https://www.marrakech-accueil.com/evenements/speak-english-3/
LOCATION:Rotisserie de la Paix\, Guéliz، 68 Rue Yougoslavie\, Marrakech\, 40000\, Morocco
ATTACH;FMTTYPE=image/jpeg:https://www.marrakech-accueil.com/wp-content/uploads/2026/04/IMG_4320.jpeg
ORGANIZER;CN="Dominique GAVALDA":MAILTO:dominiquegavalda@gmail.com
END:VEVENT
BEGIN:VEVENT
DTSTART;TZID=Africa/Casablanca:20260502T140000
DTEND;TZID=Africa/Casablanca:20260502T170000
DTSTAMP:20260425T201247
CREATED:20260410T075544Z
LAST-MODIFIED:20260410T075544Z
UID:11901-1777730400-1777741200@www.marrakech-accueil.com
SUMMARY:Jeu de cartes - TAROT
DESCRIPTION:
URL:https://www.marrakech-accueil.com/evenements/jeu-de-cartes-tarot-2/
LOCATION:Hôtel AMANI\, 11 Rue Abou Bakr Seddiq\,\, Marrakesh\, 40000\, Morocco
ATTACH;FMTTYPE=image/png:https://www.marrakech-accueil.com/wp-content/uploads/2025/11/Tarot.png
ORGANIZER;CN="Dany Segall":MAILTO:dany.segall@hotmail.fr
END:VEVENT
BEGIN:VEVENT
DTSTART;TZID=Africa/Casablanca:20260502T140000
DTEND;TZID=Africa/Casablanca:20260502T170000
DTSTAMP:20260425T201247
CREATED:20260410T075631Z
LAST-MODIFIED:20260410T075631Z
UID:11903-1777730400-1777741200@www.marrakech-accueil.com
SUMMARY:Jeu de Cartes - BELOTE
DESCRIPTION:
URL:https://www.marrakech-accueil.com/evenements/jeu-de-cartes-belote-2/
LOCATION:Hôtel AMANI\, 11 Rue Abou Bakr Seddiq\,\, Marrakesh\, 40000\, Morocco
ATTACH;FMTTYPE=image/png:https://www.marrakech-accueil.com/wp-content/uploads/2020/01/Belote-.png
ORGANIZER;CN="Dany Segall":MAILTO:dany.segall@hotmail.fr
END:VEVENT
BEGIN:VEVENT
DTSTART;TZID=Africa/Casablanca:20260503T090000
DTEND;TZID=Africa/Casablanca:20260503T170000
DTSTAMP:20260425T201247
CREATED:20260326T132634Z
LAST-MODIFIED:20260326T132634Z
UID:11663-1777798800-1777827600@www.marrakech-accueil.com
SUMMARY:Tournoi de pétanque à la villa Catherine le 3 mai
DESCRIPTION:C EST REPARTI !!! \nPour les boulistes\, rdv à la villa Catherine à 9h15 pour débuter le tournoi à 9h30. Tournoi en triplettes avec tirage au sort (un tireur au moins par équipes) \n\nPrévoir 20 dhs pour la participation.\n\nPour les non boulistes\, rdv à partir de midi à la villa Catherine. \nSi vous n’avez pas de voiture\, contactez une personne inscrite qui pourra vous amener ou à défaut Bruno Jallud \nRepas du midi : \n\nun apéritif type punch ou sangria\nun buffet brunch complet comprenant des entrées variées et également des plats principaux (viande\, poissons\, tajine\, poulet farcie\, agneau confit\, tanjia\,….) avec leur accompagnements. Cuisine fraiche du jour.\nle dessert au choix\nThé café eau compris\nTarif : 300 Dhs par personnes.\n\nLes alcools sont non compris \nDate limite des inscriptions : dimanche 26 avril (dans les commentaires\, notez si vous participez uniquement au repas) \nPour tout complément d’information contactez Bruno Jallud +33 6 73270531 brunojallud@outlook.com \nou tel Maroc 0669570188 \nAdresse : Villa Catherine\, Sidi Abdallah Ghiat (18\,5 km de Marrakech) \nGéolocalisable sur WAZE et GOOGLE. Prenez la route de l’Ourika. Tournez à gauche au canal de ZARABA et longez le canal sur environ 7 km. Après avoir franchi deux oueds\, tournez à droite au panneau fléché indiquant la VILLA CATHERINE puis empruntez IMMÉDIATEMENT la piste qui part à gauche sur environ 800 mètres. Vous traversez un douar en suivant constamment les poteaux marqués de jaune qui sillonnent la piste \nCloture des inscriptions dimanche 26 avril \nLimite 60 personnes pour le repas et 36 pour le tournoi de pétanque \n 
URL:https://www.marrakech-accueil.com/evenements/tournoi-de-petanque-a-la-villa-catherine-le-3-mai/
LOCATION:Villa Catherine\, Villa Catherine Sidi Abdellah Ghiate\, Marrakech\, 40030\, Morocco
ATTACH;FMTTYPE=image/jpeg:https://www.marrakech-accueil.com/wp-content/uploads/2019/12/589afd9f-37ac-4079-9099-e5c4f759623c.jpg
ORGANIZER;CN="Bruno Jallud":MAILTO:brunojallud@outlook.com
END:VEVENT
BEGIN:VEVENT
DTSTART;TZID=Africa/Casablanca:20260505T090000
DTEND;TZID=Africa/Casablanca:20260505T113000
DTSTAMP:20260425T201247
CREATED:20260422T165812Z
LAST-MODIFIED:20260422T165812Z
UID:12052-1777971600-1777980600@www.marrakech-accueil.com
SUMMARY:Pétanque
DESCRIPTION:contacter le responsable de l’activité \nBruno Jallud WhatsApp +212 669570188 \nou bien \nCriss Mermet WhatsApp +212 667068983
URL:https://www.marrakech-accueil.com/evenements/petanque/
LOCATION:Terrain de Pétanque\, Jardin de l’Agdal Avenue de Tassiltante Remparts de Marrakech Parking au milieu du parc\, J27F+8W Marrakech\, Maroc\, Marrakech\, Sélectionner un État :\, 40000\, Morocco
ATTACH;FMTTYPE=image/jpeg:https://www.marrakech-accueil.com/wp-content/uploads/2019/12/589afd9f-37ac-4079-9099-e5c4f759623c.jpg
ORGANIZER;CN="Bruno Jallud":MAILTO:brunojallud@outlook.com
END:VEVENT
BEGIN:VEVENT
DTSTART;TZID=Europe/Paris:20260505T143000
DTEND;TZID=Europe/Paris:20260505T163000
DTSTAMP:20260425T201247
CREATED:20260405T165049Z
LAST-MODIFIED:20260405T165049Z
UID:11850-1777991400-1777998600@www.marrakech-accueil.com
SUMMARY:Scrabble
DESCRIPTION:Dorénavant les inscriptions se font en ligne. \nVoir avec l’organisatrice Odile BRETAUD pour tout complément d’information. \nobretaud@yahoo.fr
URL:https://www.marrakech-accueil.com/evenements/scrabble-5/
LOCATION:Café Littéraire DAR SAIDA\, 97\, Semlalia\, Marrakech
ATTACH;FMTTYPE=image/png:https://www.marrakech-accueil.com/wp-content/uploads/2025/10/Scrabble.png
END:VEVENT
BEGIN:VEVENT
DTSTART;TZID=Europe/Paris:20260506T090000
DTEND;TZID=Europe/Paris:20260506T110000
DTSTAMP:20260425T201247
CREATED:20260331T195452Z
LAST-MODIFIED:20260331T195750Z
UID:11783-1778058000-1778065200@www.marrakech-accueil.com
SUMMARY:FORMATION PETANQUE du 06 mai 2026
DESCRIPTION:Dan Mermet vous propose : \nUne formation pétanque Marrakech accueil.\nFormateur des pointeurs Dan \nFormateur des tireurs Patrick \n  \nLa vocation et l’objectif de l’atelier de formation au jeu de pétanque :\n– Former les débutants et initiés au point et pour certains au tir. \n– Perfectionner au point ou au tir celles et ceux qui jouent aux séances des mardis et le vendredis. \n  \nCette formation de 3 séances du mercredi matin de 09 h à 11 h prépare aux parties des mardis et vendredis. \nPatrick et Dan veilleront à l’intégration des nouveaux adhérents dans le groupe. \nLes cessions sont ouvertes toutes les 3 semaines . \nUn groupe « pétanque formation » est créé\, demandez votre inscription. \n  \nPS : pour la formation\, des boules de prêt sont disponibles.
URL:https://www.marrakech-accueil.com/evenements/formation-petanque-du-06-mai-2026/
ATTACH;FMTTYPE=image/png:https://www.marrakech-accueil.com/wp-content/uploads/2025/11/25805de38f6669fc0ff85c3a546497a5.png
ORGANIZER;CN="Criss Mermet":MAILTO:criss.mermet@sfr.fr
END:VEVENT
BEGIN:VEVENT
DTSTART;TZID=Africa/Casablanca:20260506T140000
DTEND;TZID=Africa/Casablanca:20260506T170000
DTSTAMP:20260425T201247
CREATED:20260410T075743Z
LAST-MODIFIED:20260410T075743Z
UID:11905-1778076000-1778086800@www.marrakech-accueil.com
SUMMARY:Jeu de cartes - TAROT
DESCRIPTION:
URL:https://www.marrakech-accueil.com/evenements/jeu-de-cartes-tarot-3/
LOCATION:Hôtel AMANI\, 11 Rue Abou Bakr Seddiq\,\, Marrakesh\, 40000\, Morocco
ATTACH;FMTTYPE=image/png:https://www.marrakech-accueil.com/wp-content/uploads/2025/11/Tarot.png
ORGANIZER;CN="Dany Segall":MAILTO:dany.segall@hotmail.fr
END:VEVENT
BEGIN:VEVENT
DTSTART;TZID=Africa/Casablanca:20260506T140000
DTEND;TZID=Africa/Casablanca:20260506T170000
DTSTAMP:20260425T201247
CREATED:20260410T075842Z
LAST-MODIFIED:20260410T075842Z
UID:11907-1778076000-1778086800@www.marrakech-accueil.com
SUMMARY:Jeu de Cartes - BELOTE
DESCRIPTION:
URL:https://www.marrakech-accueil.com/evenements/jeu-de-cartes-belote-3/
LOCATION:Hôtel AMANI\, 11 Rue Abou Bakr Seddiq\,\, Marrakesh\, 40000\, Morocco
ATTACH;FMTTYPE=image/png:https://www.marrakech-accueil.com/wp-content/uploads/2020/01/Belote-.png
ORGANIZER;CN="Dany Segall":MAILTO:dany.segall@hotmail.fr
END:VEVENT
BEGIN:VEVENT
DTSTART;TZID=Europe/Paris:20260506T143000
DTEND;TZID=Europe/Paris:20260506T173000
DTSTAMP:20260425T201247
CREATED:20260325T165021Z
LAST-MODIFIED:20260325T171707Z
UID:11644-1778077800-1778088600@www.marrakech-accueil.com
SUMMARY:ATELIER ARTISTIQUE
DESCRIPTION:Rejoignez – nous pour un après-midi ludique\, artistique et convivial sous la coupole de \nl’ARTISTE JALIL au RIAD SAIDA ATLAS à TAKERKOUSTE ! \nQue vous soyez néophyte\, passionné de peinture ou séduit par la sculpture\, venez libérer \nvotre créativité\, entouré d’artistes talentueux dans une ambiance chaleureuse. \nLe matériel est entièrement mis à disposition : pinceaux\, peintures\, petits tableaux et tout le \nnécessaire pour laisser parler votre imagination. \nPour agrémenter ce moment de partage\, nous vous offrons un délicieux thé à la menthe \naccompagné de pâtisseries marocaines traditionnelles\, douceur parfaite pour stimuler \nl’inspiration. \nQue vous soyez débutant ou confirmé\, cette parenthèse artistique promet rires\, découvertes \net souvenirs inoubliables sur fond musical. \nN’hésitez plus\, réservez votre place et vivez une expérience unique où la couleur et la forme \ns’entrelacent sous le regard bienveillant de Jalil et sa joyeuse équipe d’artistes. \nA très vite pour une explosion de créativité et de bonne humeur ! \nDate 6 mai 2026 \nFrais de participation : 100 DIRHAMS PAR PERSONNE. \nPour ceux qui n’ont pas de voiture on organisera un co-voiturage. \nContact : MARYSE 0661471593
URL:https://www.marrakech-accueil.com/evenements/atelier-artistique/
LOCATION:takerkoust\, takerkoust
ATTACH;FMTTYPE=image/jpeg:https://www.marrakech-accueil.com/wp-content/uploads/2026/03/ddfd3d0d-94c0-4e3e-a6c5-2a8a9c4bfe91.jpeg
ORGANIZER;CN="Maryse":MAILTO:marysedenjean@yahoo.fr
END:VEVENT
BEGIN:VEVENT
DTSTART;TZID=Africa/Casablanca:20260508T090000
DTEND;TZID=Africa/Casablanca:20260508T113000
DTSTAMP:20260425T201247
CREATED:20260422T170237Z
LAST-MODIFIED:20260422T170237Z
UID:12062-1778230800-1778239800@www.marrakech-accueil.com
SUMMARY:Pétanque
DESCRIPTION:Vous devez vous inscrire sur le site. En cas de difficulté\, contacter le responsable de l’activité Criss Mermet WhatsApp +212 6 67 06 89 83.
URL:https://www.marrakech-accueil.com/evenements/petanque-6/
LOCATION:Terrain de Pétanque\, Jardin de l’Agdal Avenue de Tassiltante Remparts de Marrakech Parking au milieu du parc\, J27F+8W Marrakech\, Maroc\, Marrakech\, Sélectionner un État :\, 40000\, Morocco
ATTACH;FMTTYPE=image/jpeg:https://www.marrakech-accueil.com/wp-content/uploads/2019/12/589afd9f-37ac-4079-9099-e5c4f759623c.jpg
ORGANIZER;CN="Bruno Jallud":MAILTO:brunojallud@outlook.com
END:VEVENT
BEGIN:VEVENT
DTSTART;TZID=Europe/Paris:20260508T193000
DTEND;TZID=Europe/Paris:20260508T220000
DTSTAMP:20260425T201247
CREATED:20260415T172634Z
LAST-MODIFIED:20260422T133247Z
UID:12025-1778268600-1778277600@www.marrakech-accueil.com
SUMMARY:APÉRO AU FASHION HOTEL
DESCRIPTION:Nous vous proposons une soirée apéro \nsur le ROOF TOP du FASHION HÔTEL \navenue HASSAN 2 \nvins et amuses bouche inclus \nLe 8 MAI À 19h30 \nParticipation 100 dhs \n 
URL:https://www.marrakech-accueil.com/evenements/apero-au-fashion-hotel/
LOCATION:Fashion hotel Marrakech\, 46 avenue Hassan 2\, MARRAKECH\, Marrakech-Safi\, 40000\, Morocco
ATTACH;FMTTYPE=image/jpeg:https://www.marrakech-accueil.com/wp-content/uploads/2026/04/IMG_4396.jpeg
ORGANIZER;CN="Christian Descarpentries":MAILTO:christian.d59@orange.fr
END:VEVENT
BEGIN:VEVENT
DTSTART;TZID=Africa/Casablanca:20260509T140000
DTEND;TZID=Africa/Casablanca:20260509T170000
DTSTAMP:20260425T201247
CREATED:20260410T075952Z
LAST-MODIFIED:20260410T075952Z
UID:11909-1778335200-1778346000@www.marrakech-accueil.com
SUMMARY:Jeu de cartes - TAROT
DESCRIPTION:
URL:https://www.marrakech-accueil.com/evenements/jeu-de-cartes-tarot-4/
LOCATION:Hôtel AMANI\, 11 Rue Abou Bakr Seddiq\,\, Marrakesh\, 40000\, Morocco
ATTACH;FMTTYPE=image/png:https://www.marrakech-accueil.com/wp-content/uploads/2025/11/Tarot.png
ORGANIZER;CN="Dany Segall":MAILTO:dany.segall@hotmail.fr
END:VEVENT
BEGIN:VEVENT
DTSTART;TZID=Africa/Casablanca:20260509T140000
DTEND;TZID=Africa/Casablanca:20260509T170000
DTSTAMP:20260425T201247
CREATED:20260410T080030Z
LAST-MODIFIED:20260410T080030Z
UID:11911-1778335200-1778346000@www.marrakech-accueil.com
SUMMARY:Jeu de Cartes - BELOTE
DESCRIPTION:
URL:https://www.marrakech-accueil.com/evenements/jeu-de-cartes-belote-4/
LOCATION:Hôtel AMANI\, 11 Rue Abou Bakr Seddiq\,\, Marrakesh\, 40000\, Morocco
ATTACH;FMTTYPE=image/png:https://www.marrakech-accueil.com/wp-content/uploads/2020/01/Belote-.png
ORGANIZER;CN="Dany Segall":MAILTO:dany.segall@hotmail.fr
END:VEVENT
BEGIN:VEVENT
DTSTART;TZID=Africa/Casablanca:20260512T090000
DTEND;TZID=Africa/Casablanca:20260512T113000
DTSTAMP:20260425T201247
CREATED:20260422T165903Z
LAST-MODIFIED:20260422T165903Z
UID:12054-1778576400-1778585400@www.marrakech-accueil.com
SUMMARY:Pétanque
DESCRIPTION:contacter le responsable de l’activité \nBruno Jallud WhatsApp +212 669570188 \nou bien \nCriss Mermet WhatsApp +212 667068983
URL:https://www.marrakech-accueil.com/evenements/petanque-2/
LOCATION:Terrain de Pétanque\, Jardin de l’Agdal Avenue de Tassiltante Remparts de Marrakech Parking au milieu du parc\, J27F+8W Marrakech\, Maroc\, Marrakech\, Sélectionner un État :\, 40000\, Morocco
ATTACH;FMTTYPE=image/jpeg:https://www.marrakech-accueil.com/wp-content/uploads/2019/12/589afd9f-37ac-4079-9099-e5c4f759623c.jpg
ORGANIZER;CN="Bruno Jallud":MAILTO:brunojallud@outlook.com
END:VEVENT
BEGIN:VEVENT
DTSTART;TZID=Europe/Paris:20260512T143000
DTEND;TZID=Europe/Paris:20260512T163000
DTSTAMP:20260425T201247
CREATED:20260405T165205Z
LAST-MODIFIED:20260405T165205Z
UID:11852-1778596200-1778603400@www.marrakech-accueil.com
SUMMARY:Scrabble
DESCRIPTION:Dorénavant les inscriptions se font en ligne. \nVoir avec l’organisatrice Odile BRETAUD pour tout complément d’information. \nobretaud@yahoo.fr
URL:https://www.marrakech-accueil.com/evenements/scrabble-6/
LOCATION:Café Littéraire DAR SAIDA\, 97\, Semlalia\, Marrakech
ATTACH;FMTTYPE=image/png:https://www.marrakech-accueil.com/wp-content/uploads/2025/10/Scrabble.png
END:VEVENT
BEGIN:VEVENT
DTSTART;TZID=Africa/Casablanca:20260513T140000
DTEND;TZID=Africa/Casablanca:20260513T170000
DTSTAMP:20260425T201247
CREATED:20260410T080112Z
LAST-MODIFIED:20260410T080112Z
UID:11913-1778680800-1778691600@www.marrakech-accueil.com
SUMMARY:Jeu de cartes - TAROT
DESCRIPTION:
URL:https://www.marrakech-accueil.com/evenements/jeu-de-cartes-tarot-5/
LOCATION:Hôtel AMANI\, 11 Rue Abou Bakr Seddiq\,\, Marrakesh\, 40000\, Morocco
ATTACH;FMTTYPE=image/png:https://www.marrakech-accueil.com/wp-content/uploads/2025/11/Tarot.png
ORGANIZER;CN="Dany Segall":MAILTO:dany.segall@hotmail.fr
END:VEVENT
BEGIN:VEVENT
DTSTART;TZID=Africa/Casablanca:20260513T140000
DTEND;TZID=Africa/Casablanca:20260513T170000
DTSTAMP:20260425T201247
CREATED:20260410T080201Z
LAST-MODIFIED:20260410T080201Z
UID:11915-1778680800-1778691600@www.marrakech-accueil.com
SUMMARY:Jeu de Cartes - BELOTE
DESCRIPTION:
URL:https://www.marrakech-accueil.com/evenements/jeu-de-cartes-belote-5/
LOCATION:Hôtel AMANI\, 11 Rue Abou Bakr Seddiq\,\, Marrakesh\, 40000\, Morocco
ATTACH;FMTTYPE=image/png:https://www.marrakech-accueil.com/wp-content/uploads/2020/01/Belote-.png
ORGANIZER;CN="Dany Segall":MAILTO:dany.segall@hotmail.fr
END:VEVENT
BEGIN:VEVENT
DTSTART;TZID=Africa/Casablanca:20260515T090000
DTEND;TZID=Africa/Casablanca:20260515T113000
DTSTAMP:20260425T201247
CREATED:20260422T170316Z
LAST-MODIFIED:20260422T170316Z
UID:12064-1778835600-1778844600@www.marrakech-accueil.com
SUMMARY:Pétanque
DESCRIPTION:Vous devez vous inscrire sur le site. En cas de difficulté\, contacter le responsable de l’activité Criss Mermet WhatsApp +212 6 67 06 89 83.
URL:https://www.marrakech-accueil.com/evenements/petanque-7/
LOCATION:Terrain de Pétanque\, Jardin de l’Agdal Avenue de Tassiltante Remparts de Marrakech Parking au milieu du parc\, J27F+8W Marrakech\, Maroc\, Marrakech\, Sélectionner un État :\, 40000\, Morocco
ATTACH;FMTTYPE=image/jpeg:https://www.marrakech-accueil.com/wp-content/uploads/2019/12/589afd9f-37ac-4079-9099-e5c4f759623c.jpg
ORGANIZER;CN="Bruno Jallud":MAILTO:brunojallud@outlook.com
END:VEVENT
BEGIN:VEVENT
DTSTART;TZID=Europe/Paris:20260515T150000
DTEND;TZID=Europe/Paris:20260515T170000
DTSTAMP:20260425T201247
CREATED:20260410T103449Z
LAST-MODIFIED:20260417T193009Z
UID:11996-1778857200-1778864400@www.marrakech-accueil.com
SUMMARY:SPEAK ENGLISH 15/5
DESCRIPTION:Non ce n’est pas un retour à l’école… mais un moment pour converser en anglais dans une ambiance amicale avec John\, a real British\, et Dominique un vrai français.\nPas de stress\, pas de devoirs ! Avec quelques mots\, des sourires et un peu d’audace\, la conversation démarre. Les erreurs ? Elles font partie du plaisir. Nous abordons des sujets d’actualité. \nAlors ready ? Let’s talk together ! »
URL:https://www.marrakech-accueil.com/evenements/speak-english-4/
LOCATION:Rotisserie de la Paix\, Guéliz، 68 Rue Yougoslavie\, Marrakech\, 40000\, Morocco
ATTACH;FMTTYPE=image/jpeg:https://www.marrakech-accueil.com/wp-content/uploads/2026/04/IMG_4320.jpeg
ORGANIZER;CN="Dominique GAVALDA":MAILTO:dominiquegavalda@gmail.com
END:VEVENT
BEGIN:VEVENT
DTSTART;TZID=Africa/Casablanca:20260516T140000
DTEND;TZID=Africa/Casablanca:20260516T170000
DTSTAMP:20260425T201247
CREATED:20260410T080301Z
LAST-MODIFIED:20260410T080301Z
UID:11917-1778940000-1778950800@www.marrakech-accueil.com
SUMMARY:Jeu de cartes - TAROT
DESCRIPTION:
URL:https://www.marrakech-accueil.com/evenements/jeu-de-cartes-tarot-6/
LOCATION:Hôtel AMANI\, 11 Rue Abou Bakr Seddiq\,\, Marrakesh\, 40000\, Morocco
ATTACH;FMTTYPE=image/png:https://www.marrakech-accueil.com/wp-content/uploads/2025/11/Tarot.png
ORGANIZER;CN="Dany Segall":MAILTO:dany.segall@hotmail.fr
END:VEVENT
BEGIN:VEVENT
DTSTART;TZID=Africa/Casablanca:20260516T140000
DTEND;TZID=Africa/Casablanca:20260516T170000
DTSTAMP:20260425T201247
CREATED:20260410T080334Z
LAST-MODIFIED:20260410T080334Z
UID:11919-1778940000-1778950800@www.marrakech-accueil.com
SUMMARY:Jeu de Cartes - BELOTE
DESCRIPTION:
URL:https://www.marrakech-accueil.com/evenements/jeu-de-cartes-belote-6/
LOCATION:Hôtel AMANI\, 11 Rue Abou Bakr Seddiq\,\, Marrakesh\, 40000\, Morocco
ATTACH;FMTTYPE=image/png:https://www.marrakech-accueil.com/wp-content/uploads/2020/01/Belote-.png
ORGANIZER;CN="Dany Segall":MAILTO:dany.segall@hotmail.fr
END:VEVENT
BEGIN:VEVENT
DTSTART;TZID=Africa/Casablanca:20260519T090000
DTEND;TZID=Africa/Casablanca:20260519T113000
DTSTAMP:20260425T201247
CREATED:20260422T165959Z
LAST-MODIFIED:20260422T165959Z
UID:12056-1779181200-1779190200@www.marrakech-accueil.com
SUMMARY:Pétanque
DESCRIPTION:contacter le responsable de l’activité \nBruno Jallud WhatsApp +212 669570188 \nou bien \nCriss Mermet WhatsApp +212 667068983
URL:https://www.marrakech-accueil.com/evenements/petanque-3/
LOCATION:Terrain de Pétanque\, Jardin de l’Agdal Avenue de Tassiltante Remparts de Marrakech Parking au milieu du parc\, J27F+8W Marrakech\, Maroc\, Marrakech\, Sélectionner un État :\, 40000\, Morocco
ATTACH;FMTTYPE=image/jpeg:https://www.marrakech-accueil.com/wp-content/uploads/2019/12/589afd9f-37ac-4079-9099-e5c4f759623c.jpg
ORGANIZER;CN="Bruno Jallud":MAILTO:brunojallud@outlook.com
END:VEVENT
BEGIN:VEVENT
DTSTART;TZID=Europe/Paris:20260519T143000
DTEND;TZID=Europe/Paris:20260519T163000
DTSTAMP:20260425T201247
CREATED:20260405T165348Z
LAST-MODIFIED:20260405T165348Z
UID:11854-1779201000-1779208200@www.marrakech-accueil.com
SUMMARY:Scrabble
DESCRIPTION:Dorénavant les inscriptions se font en ligne. \nVoir avec l’organisatrice Odile BRETAUD pour tout complément d’information. \nobretaud@yahoo.fr
URL:https://www.marrakech-accueil.com/evenements/scrabble-7/
LOCATION:Café Littéraire DAR SAIDA\, 97\, Semlalia\, Marrakech
ATTACH;FMTTYPE=image/png:https://www.marrakech-accueil.com/wp-content/uploads/2025/10/Scrabble.png
END:VEVENT
BEGIN:VEVENT
DTSTART;TZID=Africa/Casablanca:20260520T140000
DTEND;TZID=Africa/Casablanca:20260520T170000
DTSTAMP:20260425T201247
CREATED:20260410T080406Z
LAST-MODIFIED:20260410T080406Z
UID:11921-1779285600-1779296400@www.marrakech-accueil.com
SUMMARY:Jeu de cartes - TAROT
DESCRIPTION:
URL:https://www.marrakech-accueil.com/evenements/jeu-de-cartes-tarot-7/
LOCATION:Hôtel AMANI\, 11 Rue Abou Bakr Seddiq\,\, Marrakesh\, 40000\, Morocco
ATTACH;FMTTYPE=image/png:https://www.marrakech-accueil.com/wp-content/uploads/2025/11/Tarot.png
ORGANIZER;CN="Dany Segall":MAILTO:dany.segall@hotmail.fr
END:VEVENT
BEGIN:VEVENT
DTSTART;TZID=Africa/Casablanca:20260520T140000
DTEND;TZID=Africa/Casablanca:20260520T170000
DTSTAMP:20260425T201247
CREATED:20260410T080443Z
LAST-MODIFIED:20260410T080443Z
UID:11923-1779285600-1779296400@www.marrakech-accueil.com
SUMMARY:Jeu de Cartes - BELOTE
DESCRIPTION:
URL:https://www.marrakech-accueil.com/evenements/jeu-de-cartes-belote-7/
LOCATION:Hôtel AMANI\, 11 Rue Abou Bakr Seddiq\,\, Marrakesh\, 40000\, Morocco
ATTACH;FMTTYPE=image/png:https://www.marrakech-accueil.com/wp-content/uploads/2020/01/Belote-.png
ORGANIZER;CN="Dany Segall":MAILTO:dany.segall@hotmail.fr
END:VEVENT
BEGIN:VEVENT
DTSTART;TZID=Europe/Paris:20260521T200000
DTEND;TZID=Europe/Paris:20260521T233000
DTSTAMP:20260425T201247
CREATED:20260409T220647Z
LAST-MODIFIED:20260409T220647Z
UID:11883-1779393600-1779406200@www.marrakech-accueil.com
SUMMARY:Diner Spectacle Le Blokk
DESCRIPTION:Christian vous propose une soirée spectacle au Blokk Le 21 MAI à 20h \nPrix 400dh.\nEntrée plat dessert\nBoissons non comprises. \nFin des inscriptions le 17 à minuit.
URL:https://www.marrakech-accueil.com/evenements/diner-spectacle-le-blokk/
LOCATION:Le BLOKK\, M2P8+22 Marrakech\, Maroc\, Marrakech\, Morocco
ATTACH;FMTTYPE=image/jpeg:https://www.marrakech-accueil.com/wp-content/uploads/2025/11/PHOTO-2025-11-10-17-56-44.jpg
ORGANIZER;CN="Christian Descarpentries":MAILTO:christian.d59@orange.fr
END:VEVENT
BEGIN:VEVENT
DTSTART;TZID=Africa/Casablanca:20260522T090000
DTEND;TZID=Africa/Casablanca:20260522T113000
DTSTAMP:20260425T201247
CREATED:20260422T170355Z
LAST-MODIFIED:20260422T170355Z
UID:12066-1779440400-1779449400@www.marrakech-accueil.com
SUMMARY:Pétanque
DESCRIPTION:Vous devez vous inscrire sur le site. En cas de difficulté\, contacter le responsable de l’activité Criss Mermet WhatsApp +212 6 67 06 89 83.
URL:https://www.marrakech-accueil.com/evenements/petanque-8/
LOCATION:Terrain de Pétanque\, Jardin de l’Agdal Avenue de Tassiltante Remparts de Marrakech Parking au milieu du parc\, J27F+8W Marrakech\, Maroc\, Marrakech\, Sélectionner un État :\, 40000\, Morocco
ATTACH;FMTTYPE=image/jpeg:https://www.marrakech-accueil.com/wp-content/uploads/2019/12/589afd9f-37ac-4079-9099-e5c4f759623c.jpg
ORGANIZER;CN="Bruno Jallud":MAILTO:brunojallud@outlook.com
END:VEVENT
END:VCALENDAR